BEGIN:VCALENDAR
VERSION:2.0
PRODID:-//ChamberMaster//Event Calendar 2.0//EN
METHOD:PUBLISH
X-PUBLISHED-TTL:P3D
REFRESH-INTERVAL:P3D
CALSCALE:GREGORIAN
BEGIN:VEVENT
DTSTART:20230616T000000Z
DTEND:20230616T010000Z
X-MICROSOFT-CDO-ALLDAYEVENT:FALSE
SUMMARY:United Real Estate Group Ribbon Cutting
DESCRIPTION:Please join us for a ribbon cutting ceremony at United Real Estate Group on June 15th\, 2023 from 5pm-6pm! \n\n \n\nPlease arrive by 4:50pm to be included in the ceremony!
X-ALT-DESC;FMTTYPE=text/html:<p>Please join us for a ribbon cutting ceremony at United Real Estate Group on June 15th\, 2023 from 5pm-6pm!&nbsp\;</p>\n\n<p>&nbsp\;</p>\n\n<p>Please arrive by 4:50pm to be included in the ceremony!&nbsp\;</p>\n
LOCATION:2811 E. Katella Ave #100 Orange\, CA 92867
UID:e.121.11052
SEQUENCE:3
DTSTAMP:20260419T153705Z
URL:https://business.orangechamber.com/events/details/united-real-estate-group-ribbon-cutting-11052
END:VEVENT

END:VCALENDAR
