BEGIN:VCALENDAR
VERSION:2.0
PRODID:-//ChamberMaster//Event Calendar 2.0//EN
METHOD:PUBLISH
X-PUBLISHED-TTL:P3D
REFRESH-INTERVAL:P3D
CALSCALE:GREGORIAN
BEGIN:VEVENT
DTSTART:20240712T000000Z
DTEND:20240712T010000Z
X-MICROSOFT-CDO-ALLDAYEVENT:FALSE
SUMMARY:The Skin Co. Ribbon Cutting
DESCRIPTION:Please join us in welcoming The Skin Co. to the City of Orange on July 11th at 5pm!
X-ALT-DESC;FMTTYPE=text/html:Please join us in welcoming The Skin Co. to the City of Orange on July 11th at 5pm!
LOCATION:The Skin Co. 1440 E. Chapman Ave.\, Suite B\, Orange CA 92866
UID:e.121.11136
SEQUENCE:3
DTSTAMP:20260422T102809Z
URL:https://business.orangechamber.com/events/details/the-skin-co-ribbon-cutting-11136
END:VEVENT

END:VCALENDAR
