BEGIN:VCALENDAR
VERSION:2.0
PRODID:-//ChamberMaster//Event Calendar 2.0//EN
METHOD:PUBLISH
X-PUBLISHED-TTL:P3D
REFRESH-INTERVAL:P3D
CALSCALE:GREGORIAN
BEGIN:VEVENT
DTSTART:20221103T210000Z
DTEND:20221103T230000Z
X-MICROSOFT-CDO-ALLDAYEVENT:FALSE
SUMMARY:The L.E.O. Initiative - Financial Literacy
DESCRIPTION:THE L.E.O. Initiative is a Workshop Program that is primarily geared towards College Students\, but we welcome students of all ages!\n\n\n\nOverview:\n\nDuring this class we will present a general overview on how to start investing based on your current income and expenses. We will also tie in certain types of debt and strategies to pay off your loans.\n\n \n\nWhat You'll Learn:\n\n	Cash Flow Management\n	Good Debt vs. Bad Debt\n	Investing\n\n \n\nWhy You Want to Learn It:\n\nThese three topics are the building blocks of having a successful financial future! We will discuss valuable financial habits that you can start implementing in your life right away. Its never too late to start saving\, budgeting\, and paying down your debt. However\, the best way to accomplish these goals is to have a solid financial plan and to stick to it.\n\n \n\nHow it Will Help You:\n\nThis will help you because we know many students have student loans\, credit card debt\, etc. Sometimes it may be difficult to balance debt\, along with your other expenses\, based on your current income. We will provide some tips on which debt to focus on first\, while still saving for your short and long-term goals. Besides debt planning and budgeting\, many people in their 20's and 30's have common goals\, for example: buying a home\, starting a family\, starting a business\, etc. We will discuss how to get started on these goals!\n\n \n\nPresented by:\n\nNicole Letarte\, Adam Carr\, and Hannah Sullivan of Modern Wealth Design
X-ALT-DESC;FMTTYPE=text/html:<strong style="font-family: verdana\;">THE L.E.O. Initiative is a Workshop Program that is primarily geared towards College Students\, but we welcome students of all ages!</strong><br />\n<br />\n<span style="font-size:16px\;"><span style="font-family:verdana\;"><strong>Overview:</strong><br />\nDuring this class we will present a general overview on how to start investing based on your current income and expenses. We will also tie in certain types of debt and strategies to pay off your loans.<br />\n&nbsp\;<br />\n<strong>What You&rsquo\;ll Learn:</strong></span></span>\n<ol>\n	<li style="margin-left:0in\;"><span style="font-size:16px\;"><span style="font-family:verdana\;">Cash Flow Management</span></span></li>\n	<li style="margin-left:0in\;"><span style="font-size:16px\;"><span style="font-family:verdana\;">Good Debt vs. Bad Debt</span></span></li>\n	<li style="margin-left:0in\;"><span style="font-size:16px\;"><span style="font-family:verdana\;">Investing</span></span></li>\n</ol>\n<span style="font-size:16px\;"><span style="font-family:verdana\;">&nbsp\;<br />\n<strong>Why You Want to Learn It:</strong><br />\nThese three topics are the building blocks of having a successful financial future! We will discuss valuable financial habits that you can start implementing in your life right away. Its never too late to start saving\, budgeting\, and paying down your debt. However\, the best way to accomplish these goals is to have a solid financial plan and to stick to it.<br />\n&nbsp\;<br />\n<strong>How it Will Help You:</strong><br />\nThis will help you because we know many students have student loans\, credit card debt\, etc. Sometimes it may be difficult to balance debt\, along with your other expenses\, based on your current income. We will provide some tips on which debt to focus on first\, while still saving for your short and long-term goals. Besides debt planning and budgeting\, many people in their 20&rsquo\;s and 30&rsquo\;s have common goals\, for example: buying a home\, starting a family\, starting a business\, etc. We will discuss how to get started on these goals!<br />\n&nbsp\;<br />\n<strong>Presented by:</strong><br />\nNicole Letarte\, Adam Carr\, and Hannah Sullivan of Modern Wealth Design</span></span>
LOCATION:South Coast College Room 205 2011 W Chapman Ave\, Orange\, CA 92868
UID:e.121.10877
SEQUENCE:3
DTSTAMP:20260419T232749Z
URL:https://business.orangechamber.com/events/details/the-l-e-o-initiative-financial-literacy-10877
END:VEVENT

END:VCALENDAR
