BEGIN:VCALENDAR
VERSION:2.0
PRODID:-//ChamberMaster//Event Calendar 2.0//EN
METHOD:PUBLISH
X-PUBLISHED-TTL:P3D
REFRESH-INTERVAL:P3D
CALSCALE:GREGORIAN
BEGIN:VEVENT
DTSTART:20221012T210000Z
DTEND:20221012T230000Z
X-MICROSOFT-CDO-ALLDAYEVENT:FALSE
SUMMARY:The L.E.O. Initiative - Emotional Intelligence in the Workplace
DESCRIPTION:THE L.E.O. Initiative is a Workshop Program that is primarily geared towards College Students\, but we welcome students of all ages!\n\n\n\nBehavioral psychologists have researched the theory that people's behavior can be roughly classified into four groups. By recognizing your dominant style and developing the ability to identify traits in others\, you can use Emotional Intelligence to change your behavior to interact with a wide variety of personalities and tendencies. This workshop will also go over diversity in the workplace. Employees and their leaders encounter a wide range of differences that may cause conflict and reduce productivity. When you manage these differences well\, this richness of diversity can create an environment of inclusion that produces strong work teams.\n\n\n\nWhat You'll Learn\n\n	Identify their own personality style and how they react under pressure\n	modify their behaviors to better connect with people of different styles\n	influence the attitudes and behaviors of others\n	Understand our conscious and unconscious bias\n	Identify a process to make the most of diversity and inclusion\n	Commit to using proven tools to bridge differences\n\n\n\nWhy You Want to Learn It\n\nEmotional Intelligence will help you practice active listening and interpersonal skills to create harmony in stressful situations and bring people together who otherwise may be separated by their differences.\n\n\n\nHow it Will Help You\n\nThis Emotional Intelligence workshop helps you to see things from multiple points of view\, how actions impact others\, and what you can do to affect collaboration\n\n\n\nPresented by:\n\nOscar Toscano from Dale Carnegie of Orange County
X-ALT-DESC;FMTTYPE=text/html:<span style="font-family:verdana\;"><span style="background-color: rgb(243\, 243\, 243)\;"><strong>THE L.E.O. Initiative is a Workshop Program that is primarily geared towards College Students\, but we welcome students of all ages!</strong></span><br />\n<br />\nBehavioral psychologists have researched the theory that people&rsquo\;s behavior can be roughly classified into four groups. By recognizing your dominant style and developing the ability to identify traits in others\, you can use Emotional Intelligence to change your behavior to interact with a wide variety of personalities and tendencies. This workshop will also go over diversity in the workplace. Employees and their leaders encounter a wide range of differences that may cause conflict and reduce productivity. When you manage these differences well\, this richness of diversity can create an environment of inclusion that produces strong work teams.<br />\n<br />\n<span data-userway-s7-styled="true"><strong data-userway-s7-styled="true" style="transition:all 0s ease 0s\;">What You&rsquo\;ll Learn</strong></span></span>\n<ul>\n	<li><span style="font-family:verdana\;">Identify their own personality style and how they react under pressure</span></li>\n	<li><span style="font-family:verdana\;">modify their behaviors to better connect with people of different styles</span></li>\n	<li><span style="font-family:verdana\;">influence the attitudes and behaviors of others</span></li>\n	<li><span style="font-family:verdana\;">Understand our conscious and unconscious bias</span></li>\n	<li><span style="font-family:verdana\;">Identify a process to make the most of diversity and inclusion</span></li>\n	<li><span style="font-family:verdana\;">Commit to using proven tools to bridge differences</span></li>\n</ul>\n<br style="box-sizing: border-box\; color: rgb(22\, 39\, 47)\; font-family: Raleway\, sans-serif\; font-size: 16px\; background-color: rgb(243\, 243\, 243)\;" />\n<span style="font-family:verdana\;"><span style="box-sizing: border-box\; font-weight: bolder\; color: rgb(22\, 39\, 47)\; background-color: rgb(243\, 243\, 243)\;">Why You Want to Learn It</span><br style="box-sizing: border-box\; color: rgb(22\, 39\, 47)\; font-family: Raleway\, sans-serif\; font-size: 16px\; background-color: rgb(243\, 243\, 243)\;" />\n<span style="color: rgb(22\, 39\, 47)\; background-color: rgb(243\, 243\, 243)\;">Emotional Intelligence will help you practice active listening and interpersonal skills to create harmony in stressful situations and bring people together who otherwise may be separated by their differences.</span><br style="box-sizing: border-box\; color: rgb(22\, 39\, 47)\; font-family: Raleway\, sans-serif\; font-size: 16px\; background-color: rgb(243\, 243\, 243)\;" />\n<br style="box-sizing: border-box\; color: rgb(22\, 39\, 47)\; font-family: Raleway\, sans-serif\; font-size: 16px\; background-color: rgb(243\, 243\, 243)\;" />\n<span style="box-sizing: border-box\; font-weight: bolder\; color: rgb(22\, 39\, 47)\; background-color: rgb(243\, 243\, 243)\;">How it Will Help You</span><br style="box-sizing: border-box\; color: rgb(22\, 39\, 47)\; font-family: Raleway\, sans-serif\; font-size: 16px\; background-color: rgb(243\, 243\, 243)\;" />\n<span style="color: rgb(22\, 39\, 47)\; background-color: rgb(243\, 243\, 243)\;">This Emotional Intelligence workshop helps you to see things from multiple points of view\, how actions impact others\, and what you can do to affect collaboration</span><br />\n<br />\n<strong>Presented by:</strong><br />\nOscar Toscano from Dale Carnegie of Orange County</span>
LOCATION:Santiago Canyon College - E Building - E-306 8045 E Chapman Ave\, Orange\, CA 92869
UID:e.121.10876
SEQUENCE:3
DTSTAMP:20260420T010950Z
URL:https://business.orangechamber.com/events/details/the-l-e-o-initiative-emotional-intelligence-in-the-workplace-10876
END:VEVENT

END:VCALENDAR
