BEGIN:VCALENDAR
VERSION:2.0
PRODID:-//ChamberMaster//Event Calendar 2.0//EN
METHOD:PUBLISH
X-PUBLISHED-TTL:P3D
REFRESH-INTERVAL:P3D
CALSCALE:GREGORIAN
BEGIN:VEVENT
DTSTART:20230415T230000Z
DTEND:20230416T020000Z
X-MICROSOFT-CDO-ALLDAYEVENT:FALSE
SUMMARY:The Duke of Orange
DESCRIPTION:The Duke of Orange Pageant will showcase the wonderful men of Orange. This fun event will feature a bevy of contestants vying for the crown!\n\nWhen:\n\nApril 15\, 2023 Party starts at 4:00pm. Pageant starts at 5:00pm.\n\n \n\nWhere:\n\nThe Woman's Club of Orange\n\n\n	Contestant sponsor: $500\n	\n		4 Admission tickets\n		8 drink tickets\n		VIP seating\n		Name in program and onstage\n	\n	\n	Table sponsor: $450\n	\n		10 Admission tickets\n		20 drink tickets\n		Premium table location\n		Table tent with group's name\n	\n	\n	Contestant & Table Sponsor: $750\n	\n		10 Admission tickets\n		20 drink tickets\n		Premium table location\n		Table tent with group's name\n		Ability to sponsor a contestant of your choice\n	\n	\n	General Admission: $25\n	Ladies' Night Special Package: $45 (SOLD OUT) \n	\n		Premium seating\n		2 drink tickets + Prosecco Toast\n		Goodie bag\n		Pre-pageant photo op with contestants\n		Photo op with the newly crowned Duke\n	\n	\n\n\nEvent Information:\n\nAppetizers will be provided along with a no host bar and a fun show!\n\nCocktail Mixer: 4:00pm-5:00pm\n\nShow starts at 5:00pm.\n\n$5 Drink Tickets available for sale at venue.
X-ALT-DESC;FMTTYPE=text/html:<p style="box-sizing: border-box\; margin: 0px 0px 10px\; color: rgb(22\, 39\, 47)\; font-family: Raleway\, sans-serif\; font-size: 16px\; background-color: rgb(243\, 243\, 243)\; text-align: center\;">The Duke of Orange Pageant will showcase the wonderful men of Orange. <span style="color: rgb(22\, 39\, 47)\; font-family: Arial\, serif\; font-size: 16px\; text-align: center\; background-color: rgb(243\, 243\, 243)\;">This fun event will feature a bevy of contestants vying for the crown!</span></p>\n\n<p class="userway-s7-active" data-userway-s7-styled="true" style="box-sizing: border-box\; margin: 0px 0px 10px\; color: rgb(22\, 39\, 47)\; font-size: 16px\; background-color: rgb(243\, 243\, 243)\; text-align: center\; transition: all 0s ease 0s\; font-family: Arial\, serif !important\;"><strong class="userway-s7-active" data-userway-s7-styled="true" style="box-sizing: border-box\; transition: all 0s ease 0s\;">When</strong>:</p>\n\n<p class="userway-s7-active" data-userway-s7-styled="true" style="box-sizing: border-box\; margin: 0px 0px 10px\; color: rgb(22\, 39\, 47)\; font-size: 16px\; background-color: rgb(243\, 243\, 243)\; text-align: center\; transition: all 0s ease 0s\; font-family: Arial\, serif !important\;">April 15\, 2023 Party starts at 4:00pm. Pageant starts at 5:00pm.</p>\n\n<p style="box-sizing: border-box\; margin: 0px 0px 10px\; color: rgb(22\, 39\, 47)\; font-family: Raleway\, sans-serif\; font-size: 16px\; background-color: rgb(243\, 243\, 243)\;">&nbsp\;</p>\n\n<p class="userway-s7-active" data-userway-s7-styled="true" style="box-sizing: border-box\; margin: 0px 0px 10px\; color: rgb(22\, 39\, 47)\; font-size: 16px\; background-color: rgb(243\, 243\, 243)\; text-align: center\; transition: all 0s ease 0s\; font-family: Arial\, serif !important\;"><strong class="userway-s7-active" data-userway-s7-styled="true" style="box-sizing: border-box\; transition: all 0s ease 0s\;">Where</strong>:</p>\n\n<p class="userway-s7-active" data-userway-s7-styled="true" style="box-sizing: border-box\; margin: 0px 0px 10px\; color: rgb(22\, 39\, 47)\; font-size: 16px\; background-color: rgb(243\, 243\, 243)\; text-align: center\; transition: all 0s ease 0s\; font-family: Arial\, serif !important\;">The Woman&rsquo\;s Club of Orange</p>\n\n<ul style="box-sizing: border-box\; margin-top: 0px\; margin-bottom: 10px\; color: rgb(22\, 39\, 47)\; font-family: Raleway\, sans-serif\; font-size: 16px\; background-color: rgb(243\, 243\, 243)\;">\n	<li class="userway-s7-active" data-userway-s7-styled="true" style="box-sizing: border-box\; transition: all 0s ease 0s\;">Contestant sponsor: $500\n	<ul class="userway-s7-active" data-userway-s7-styled="true" style="box-sizing: border-box\; margin-top: 0px\; margin-bottom: 0px\; transition: all 0s ease 0s\;">\n		<li class="userway-s7-active" data-userway-s7-styled="true" style="box-sizing: border-box\; transition: all 0s ease 0s\;">4 Admission tickets</li>\n		<li class="userway-s7-active" data-userway-s7-styled="true" style="box-sizing: border-box\; transition: all 0s ease 0s\;">8 drink tickets</li>\n		<li class="userway-s7-active" data-userway-s7-styled="true" style="box-sizing: border-box\; transition: all 0s ease 0s\;">VIP seating</li>\n		<li class="userway-s7-active" data-userway-s7-styled="true" style="box-sizing: border-box\; transition: all 0s ease 0s\;">Name in program and onstage</li>\n	</ul>\n	</li>\n	<li class="userway-s7-active" data-userway-s7-styled="true" style="box-sizing: border-box\; transition: all 0s ease 0s\;">Table sponsor: $450\n	<ul class="userway-s7-active" data-userway-s7-styled="true" style="box-sizing: border-box\; margin-top: 0px\; margin-bottom: 0px\; transition: all 0s ease 0s\;">\n		<li class="userway-s7-active" data-userway-s7-styled="true" style="box-sizing: border-box\; transition: all 0s ease 0s\;">10 Admission tickets</li>\n		<li class="userway-s7-active" data-userway-s7-styled="true" style="box-sizing: border-box\; transition: all 0s ease 0s\;">20 drink tickets</li>\n		<li class="userway-s7-active" data-userway-s7-styled="true" style="box-sizing: border-box\; transition: all 0s ease 0s\;">Premium table location</li>\n		<li class="userway-s7-active" data-userway-s7-styled="true" style="box-sizing: border-box\; transition: all 0s ease 0s\;">Table tent with group&rsquo\;s name</li>\n	</ul>\n	</li>\n	<li class="userway-s7-active" data-userway-s7-styled="true" style="box-sizing: border-box\; transition: all 0s ease 0s\;">Contestant &amp\; Table Sponsor: $750\n	<ul>\n		<li class="userway-s7-active" style="transition: all 0s ease 0s\; font-family: Arial\, serif !important\;">10 Admission tickets</li>\n		<li class="userway-s7-active" style="transition: all 0s ease 0s\; font-family: Arial\, serif !important\;">20 drink tickets</li>\n		<li class="userway-s7-active" style="transition: all 0s ease 0s\; font-family: Arial\, serif !important\;">Premium table location</li>\n		<li class="userway-s7-active" style="transition: all 0s ease 0s\; font-family: Arial\, serif !important\;">Table tent with group&rsquo\;s name</li>\n		<li>Ability to sponsor a contestant of your choice</li>\n	</ul>\n	</li>\n	<li class="userway-s7-active" data-userway-s7-styled="true" style="box-sizing: border-box\; transition: all 0s ease 0s\;">General Admission: $25</li>\n	<li class="userway-s7-active" data-userway-s7-styled="true" style="box-sizing: border-box\; transition: all 0s ease 0s\;">Ladies&rsquo\; Night Special Package: $45 (SOLD OUT)&nbsp\;\n	<ul class="userway-s7-active" data-userway-s7-styled="true" style="box-sizing: border-box\; margin-top: 0px\; margin-bottom: 0px\; transition: all 0s ease 0s\;">\n		<li class="userway-s7-active" data-userway-s7-styled="true" style="box-sizing: border-box\; transition: all 0s ease 0s\;">Premium seating</li>\n		<li class="userway-s7-active" data-userway-s7-styled="true" style="box-sizing: border-box\; transition: all 0s ease 0s\;">2 drink tickets + Prosecco Toast</li>\n		<li class="userway-s7-active" data-userway-s7-styled="true" style="box-sizing: border-box\; transition: all 0s ease 0s\;">Goodie bag</li>\n		<li class="userway-s7-active" data-userway-s7-styled="true" style="box-sizing: border-box\; transition: all 0s ease 0s\;">Pre-pageant photo op with contestants</li>\n		<li class="userway-s7-active" data-userway-s7-styled="true" style="box-sizing: border-box\; transition: all 0s ease 0s\;">Photo op with the newly crowned Duke</li>\n	</ul>\n	</li>\n</ul>\n\n<p><span class="userway-s7-active" data-userway-s7-styled="true" style="font-size: 20px\;"><strong class="userway-s7-active" data-userway-s7-styled="true" style="font-family: Arial\, serif !important\; transition: all 0s ease 0s\;">Event Information:</strong></span></p>\n\n<p>Appetizers will be provided along with a no host bar and a fun show!</p>\n\n<p>Cocktail Mixer: 4:00pm-5:00pm</p>\n\n<p>Show starts at 5:00pm.</p>\n\n<p>$5 Drink Tickets available for sale at venue.</p>\n\n<div class="fl-page-content" id="fl-main-content" itemprop="mainContentOfPage" style="box-sizing: border-box\; background-color: rgb(243\, 243\, 243)\; background-image: none\; position: relative\; color: rgb(22\, 39\, 47)\; font-family: Raleway\, sans-serif\; font-size: 16px\;">\n<div class="fl-content-full container" style="box-sizing: border-box\; padding: 0px\; margin: 0px\; width: auto\; max-width: none\;">\n<div class="row" style="box-sizing: border-box\; margin: 0px\;">\n<div class="fl-content col-md-12" style="box-sizing: border-box\; position: relative\; min-height: 1px\; padding: 0px\; float: left\; width: 1760.19px\; margin: 0px\;">\n<div class="fl-comments" style="box-sizing: border-box\; margin: 0px auto\; width: 1045px\;">&nbsp\;</div>\n</div>\n</div>\n</div>\n</div>\n
LOCATION:The Woman's Club of Orange 121 S. Center St. Orange\, CA 92866
UID:e.121.11043
SEQUENCE:3
DTSTAMP:20260419T122800Z
URL:https://business.orangechamber.com/events/details/the-duke-of-orange-11043
END:VEVENT

END:VCALENDAR
