BEGIN:VCALENDAR
VERSION:2.0
PRODID:-//ChamberMaster//Event Calendar 2.0//EN
METHOD:PUBLISH
X-PUBLISHED-TTL:P3D
REFRESH-INTERVAL:P3D
CALSCALE:GREGORIAN
BEGIN:VEVENT
DTSTART:20230428T000000Z
DTEND:20230428T020000Z
X-MICROSOFT-CDO-ALLDAYEVENT:FALSE
SUMMARY:Sunrise of Orange Ribbon Cutting & Mixer
DESCRIPTION:Please join us on April 27th\, 2023 from 5pm-7pm to celebrate the grand opening of Sunrise of Orange followed by our April Chamber Mixer!
X-ALT-DESC;FMTTYPE=text/html:Please join us on April 27th\, 2023 from 5pm-7pm to celebrate the grand opening of Sunrise of Orange followed by our April Chamber Mixer!<br />\n<br />\n&nbsp\;
LOCATION:Sunrise of Orange 1301 E. Lincoln Ave. Orange\, CA 92865
UID:e.121.11048
SEQUENCE:3
DTSTAMP:20260419T122924Z
URL:https://business.orangechamber.com/events/details/sunrise-of-orange-ribbon-cutting-mixer-11048
END:VEVENT

END:VCALENDAR
