BEGIN:VCALENDAR
VERSION:2.0
PRODID:-//ChamberMaster//Event Calendar 2.0//EN
METHOD:PUBLISH
X-PUBLISHED-TTL:P3D
REFRESH-INTERVAL:P3D
CALSCALE:GREGORIAN
BEGIN:VEVENT
DTSTART:20230628T230000Z
DTEND:20230629T000000Z
X-MICROSOFT-CDO-ALLDAYEVENT:FALSE
SUMMARY:Sri Sai Krish Institute Ribbon Cutting
DESCRIPTION:Please join us on June 28th at 4pm to celebrate the grand opening of Sri Sai Krish Institute in the City of Orange!
X-ALT-DESC;FMTTYPE=text/html:Please join us on June 28th at 4pm to celebrate the grand opening of Sri Sai Krish Institute in the City of Orange!
LOCATION:Sri Sai Krish Institute 5334 E. Chapman Ave.\, Orange\, CA 92869
UID:e.121.11057
SEQUENCE:3
DTSTAMP:20260419T153617Z
URL:https://business.orangechamber.com/events/details/sri-sai-krish-institute-ribbon-cutting-11057
END:VEVENT

END:VCALENDAR
