BEGIN:VCALENDAR
VERSION:2.0
PRODID:-//ChamberMaster//Event Calendar 2.0//EN
METHOD:PUBLISH
X-PUBLISHED-TTL:P3D
REFRESH-INTERVAL:P3D
CALSCALE:GREGORIAN
BEGIN:VEVENT
DTSTART:20240729T230000Z
DTEND:20240730T000000Z
X-MICROSOFT-CDO-ALLDAYEVENT:FALSE
SUMMARY:Smarty Social Media Ribbon Cutting
DESCRIPTION:Please join us in welcoming Smarty Social Media to the Orange Chamber of Commerce with an official ribbon cutting ceremony on July 29th\, 2024 at 4pm!
X-ALT-DESC;FMTTYPE=text/html:Please join us in welcoming Smarty Social Media to the Orange Chamber of Commerce with an official ribbon cutting ceremony on July 29th\, 2024 at 4pm!
LOCATION:Smarty Social Media 135 S Lemon St\, Suite A\, Orange\, CA 92866
UID:e.121.11141
SEQUENCE:3
DTSTAMP:20260422T102809Z
URL:https://business.orangechamber.com/events/details/smarty-social-media-ribbon-cutting-11141
END:VEVENT

END:VCALENDAR
