BEGIN:VCALENDAR
VERSION:2.0
PRODID:-//ChamberMaster//Event Calendar 2.0//EN
METHOD:PUBLISH
X-PUBLISHED-TTL:P3D
REFRESH-INTERVAL:P3D
CALSCALE:GREGORIAN
BEGIN:VEVENT
DTSTART;VALUE=DATE:20221126
DTEND;VALUE=DATE:20221127
TRANSP:TRANSPARENT
X-MICROSOFT-CDO-ALLDAYEVENT:TRUE
SUMMARY:Small Business Saturday
DESCRIPTION:Mark your calendar!\n\nSmall Business Saturday  is on November 26th.\n\n \n\nHere's why we're participating\n\nSmall businesses like yours are integral to our community\, and we're proud to join American Express to help you promote your business\, connect with your regular customers\, and reach new ones on Small Business Saturday and throughout the holiday shopping season.\n\n \n\nAccess free resources to promote your business\n\nYou can download a variety of resources\, from storefront signage to ready-to-use social posts\, designed to help your business prepare for the big day and continue to reach customers throughout the season.\n\n\n\nLearn more here!
X-ALT-DESC;FMTTYPE=text/html:<div align="center" style="color: rgb(56\, 72\, 86)\; font-family: &quot\;Trebuchet MS&quot\;\, Verdana\, Helvetica\, sans-serif\; font-size: 14px\; text-align: center\;"><span style="color: rgb(30\, 25\, 25)\;">Mark your calendar!</span></div>\n\n<div align="center" style="color: rgb(56\, 72\, 86)\; font-family: &quot\;Trebuchet MS&quot\;\, Verdana\, Helvetica\, sans-serif\; font-size: 14px\; text-align: center\;"><span style="color: rgb(30\, 25\, 25)\;">Small Business Saturday&reg\; is on November 26th.</span></div>\n\n<div align="center" style="color: rgb(56\, 72\, 86)\; font-family: &quot\;Trebuchet MS&quot\;\, Verdana\, Helvetica\, sans-serif\; font-size: 14px\; text-align: center\;">&nbsp\;</div>\n\n<div align="center" style="color: rgb(56\, 72\, 86)\; font-family: &quot\;Trebuchet MS&quot\;\, Verdana\, Helvetica\, sans-serif\; font-size: 14px\; text-align: center\;"><span style="color: rgb(30\, 25\, 25)\; font-weight: bold\; text-decoration-line: underline\;">Here&rsquo\;s why we&rsquo\;re participating</span></div>\n\n<div align="center" style="color: rgb(56\, 72\, 86)\; font-family: &quot\;Trebuchet MS&quot\;\, Verdana\, Helvetica\, sans-serif\; font-size: 14px\; text-align: center\;"><span style="color: rgb(30\, 25\, 25)\;">Small businesses like yours are integral to our community\, and we&rsquo\;re proud to join American Express to help you promote your business\, connect with your regular customers\, and reach new ones on Small Business Saturday and throughout the holiday shopping season.</span></div>\n\n<div align="center" style="color: rgb(56\, 72\, 86)\; font-family: &quot\;Trebuchet MS&quot\;\, Verdana\, Helvetica\, sans-serif\; font-size: 14px\; text-align: center\;">&nbsp\;</div>\n\n<div align="center" style="color: rgb(56\, 72\, 86)\; font-family: &quot\;Trebuchet MS&quot\;\, Verdana\, Helvetica\, sans-serif\; font-size: 14px\; text-align: center\;"><span style="color: rgb(30\, 25\, 25)\; font-weight: bold\; text-decoration-line: underline\;">Access free resources to promote your business</span></div>\n\n<div align="center" style="color: rgb(56\, 72\, 86)\; font-family: &quot\;Trebuchet MS&quot\;\, Verdana\, Helvetica\, sans-serif\; font-size: 14px\; text-align: center\;"><span style="color: rgb(30\, 25\, 25)\;">You can download a variety of resources\, from storefront signage to ready-to-use social posts\, designed to help your business prepare for the big day and continue to reach customers throughout the season.<br />\n<br />\n<span style="font-size:16px\;"><a href="https://www.americanexpress.com/us/small-business/shop-small/studio/">Learn more here!</a>&nbsp\;</span></span></div>\n
LOCATION:
UID:e.121.11021
SEQUENCE:3
DTSTAMP:20260420T215012Z
URL:https://business.orangechamber.com/events/details/small-business-saturday-11021
END:VEVENT

END:VCALENDAR
