BEGIN:VCALENDAR
VERSION:2.0
PRODID:-//ChamberMaster//Event Calendar 2.0//EN
METHOD:PUBLISH
X-PUBLISHED-TTL:P3D
REFRESH-INTERVAL:P3D
CALSCALE:GREGORIAN
BEGIN:VEVENT
DTSTART:20230929T000000Z
DTEND:20230929T020000Z
X-MICROSOFT-CDO-ALLDAYEVENT:FALSE
SUMMARY:September Chamber Mixer at Kalaveras Orange
DESCRIPTION:Please join us on September 28th\, 2023 for our September Chamber Mixer at Kalaveras of Orange!
X-ALT-DESC;FMTTYPE=text/html:Please join us on September 28th\, 2023 for our September Chamber Mixer at Kalaveras of Orange!
LOCATION:Kalaveras Orange 167 S Main St\, Orange\, CA 92868
UID:e.121.11065
SEQUENCE:3
DTSTAMP:20260419T221919Z
URL:https://business.orangechamber.com/events/details/september-chamber-mixer-at-kalaveras-orange-11065
END:VEVENT

END:VCALENDAR
