BEGIN:VCALENDAR
VERSION:2.0
PRODID:-//ChamberMaster//Event Calendar 2.0//EN
METHOD:PUBLISH
X-PUBLISHED-TTL:P3D
REFRESH-INTERVAL:P3D
CALSCALE:GREGORIAN
BEGIN:VEVENT
DTSTART:20230512T000000Z
DTEND:20230512T020000Z
X-MICROSOFT-CDO-ALLDAYEVENT:FALSE
SUMMARY:Senior Doc Ribbon Cutting
DESCRIPTION:Please join us on May 11th from 5-7pm to help us celebrating the Grand Re-Opening of Senior Doc!
X-ALT-DESC;FMTTYPE=text/html:<p>Please join us on May 11th from 5-7pm to help us celebrating the Grand Re-Opening of Senior Doc!&nbsp\;</p>\n
LOCATION:1100 Town and Country Rd #1300\, Orange\, CA 92868
UID:e.121.11050
SEQUENCE:3
DTSTAMP:20260419T135753Z
URL:https://business.orangechamber.com/events/details/senior-doc-ribbon-cutting-11050
END:VEVENT

END:VCALENDAR
