BEGIN:VCALENDAR
VERSION:2.0
PRODID:-//ChamberMaster//Event Calendar 2.0//EN
METHOD:PUBLISH
X-PUBLISHED-TTL:P3D
REFRESH-INTERVAL:P3D
CALSCALE:GREGORIAN
BEGIN:VEVENT
DTSTART:20251014T230000Z
DTEND:20251015T010000Z
X-MICROSOFT-CDO-ALLDAYEVENT:FALSE
SUMMARY:Ribbon Cutting: Stillmind Wellness Center
DESCRIPTION:Please join us in congratulating Stillmind Wellness Center on their new location in Orange with an official ribbon cutting ceremony on October 14th at 4pm!\n\n\n\nAbout Stillmind Wellness Center\n\n\nAt Stillmind Wellness Center\, they're dedicated to promoting mindfulness\, mental clarity\, and inner peace. Through yoga\, guided meditation\, and stress-relief techniques\, they empower individuals to quiet the mind and find balance in their lives. Whether you're new to mindfulness or looking to deepen your practice\, Stillmind offers tools and resources to support your journey toward a calmer\, more centered self.
X-ALT-DESC;FMTTYPE=text/html:<p><span style="font-family:arial\;"><span style="caret-color: rgb(22\, 39\, 47)\; color: rgb(22\, 39\, 47)\;"><span style="font-size:16px\;">Please join us in congratulating&nbsp\;Stillmind Wellness Center on their new location in Orange with an official ribbon cutting ceremony on October 14th at 4pm!</span><br />\n<br />\n<strong><span style="font-size:16px\;">About Stillmind Wellness Center</span></strong></span></span></p>\n\n<div data-mesh-id="comp-klqos1q9inlineContent" data-testid="inline-content" style="background-image: none\; background-position: 0% 0%\; background-size: auto\; background-repeat: repeat\; background-attachment: scroll\; background-origin: padding-box\; background-clip: border-box\; border: 0px\; margin: 0px\; outline: 0px\; padding: 0px\; vertical-align: baseline\; pointer-events: none\; position: relative\; height: auto\; width: 715.5px\; caret-color: rgb(0\, 0\, 0)\; color: rgb(0\, 0\, 0)\; font-family: Arial\, Helvetica\, sans-serif\; font-size: 10px\;">\n<div data-mesh-id="comp-klqos1q9inlineContent-gridContainer" data-testid="mesh-container-content" style="background-image: none\; background-position: 0% 0%\; background-size: auto\; background-repeat: repeat\; background-attachment: scroll\; background-origin: padding-box\; background-clip: border-box\; border: 0px\; margin: 0px\; outline: 0px\; padding: 0px\; vertical-align: baseline\; position: static\; display: grid\; height: auto\; width: 715.5px\; min-height: auto\; grid-template-rows: repeat(2\, min-content) 1fr\; grid-template-columns: 100%\;"><span style="font-family:arial\;"><span style="font-size:16px\;"><span style="text-transform: var(--textTransform\,&quot\;none&quot\;)\;">At Stillmind&nbsp\;Wellness Center\, they&#39\;re dedicated to promoting mindfulness\, mental clarity\, and inner peace. Through yoga\, guided meditation\, and stress-relief techniques\, they empower individuals to quiet the mind and find balance in their lives. Whether you&#39\;re new to mindfulness or looking to deepen your practice\, Stillmind&nbsp\;offers tools and resources to support your journey toward a calmer\, more centered self.</span></span></span></div>\n</div>\n
LOCATION:Stillmind Wellness Center
UID:e.121.11349
SEQUENCE:3
DTSTAMP:20260422T153857Z
URL:https://business.orangechamber.com/events/details/ribbon-cutting-stillmind-wellness-center-11349
END:VEVENT

END:VCALENDAR
