BEGIN:VCALENDAR
VERSION:2.0
PRODID:-//ChamberMaster//Event Calendar 2.0//EN
METHOD:PUBLISH
X-PUBLISHED-TTL:P3D
REFRESH-INTERVAL:P3D
CALSCALE:GREGORIAN
BEGIN:VEVENT
DTSTART:20251018T000000Z
DTEND:20251018T010000Z
X-MICROSOFT-CDO-ALLDAYEVENT:FALSE
SUMMARY:Ribbon Cutting: Chic Party Rentals 10th Anniversary
DESCRIPTION:Please join us in congratulating Nikki on celebrating her 10th anniversary of owning Chic Party Rentals with an official ribbon cutting ceremony!\n\n\n\nAbout Chic Party Rentals:\n\n\n\nChic Party Rentals has been a family-owned business in Orange County\, California for over 30 years.\n\n\n\nTheir promise to you is simple. They promise to offer the best service in town. A price is only a number\, but service keeps their customers coming back\, like so many have for many years.
X-ALT-DESC;FMTTYPE=text/html:<p>Please join us in congratulating Nikki on&nbsp\;celebrating&nbsp\;her 10th anniversary of owning Chic Party Rentals with an official ribbon cutting ceremony!<br />\n<br />\n<u><strong>About Chic Party Rentals:</strong></u><br />\n<br />\nChic Party Rentals has been a family-owned business in Orange County\, California for over 30 years.<br />\n<br />\nTheir&nbsp\;promise to you is simple. They&nbsp\;promise to offer the best service in town. A price is only a number\, but service keeps their&nbsp\;customers coming back\, like so many&nbsp\;have for many years.&nbsp\;<br />\n<br />\n<br />\n&nbsp\;</p>\n
LOCATION:Chic Party Rentals
UID:e.121.11350
SEQUENCE:3
DTSTAMP:20260422T160425Z
URL:https://business.orangechamber.com/events/details/ribbon-cutting-chic-party-rentals-10th-anniversary-11350
END:VEVENT

END:VCALENDAR
