BEGIN:VCALENDAR
VERSION:2.0
PRODID:-//ChamberMaster//Event Calendar 2.0//EN
METHOD:PUBLISH
X-PUBLISHED-TTL:P3D
REFRESH-INTERVAL:P3D
CALSCALE:GREGORIAN
BEGIN:VEVENT
DTSTART:20230420T153000Z
DTEND:20230420T163000Z
X-MICROSOFT-CDO-ALLDAYEVENT:FALSE
SUMMARY:Palmyra Elementary School Ribbon Cutting
DESCRIPTION:Please join us on April 20th\, 2023 at 8:30am at Palmyra Elementary School for a ribbon cutting ceremony to celebrate their 70th anniversary!\n\n\n\nPlease arrive by 8:15am to be included in the ribbon cutting ceremony!
X-ALT-DESC;FMTTYPE=text/html:Please join us on April 20th\, 2023 at 8:30am at Palmyra Elementary School for a ribbon cutting ceremony to celebrate their 70th anniversary!<br />\n<br />\nPlease arrive by 8:15am to be included in the ribbon cutting ceremony!
LOCATION:Palmyra Elementary 1325 E. Palmyra Ave. Orange\, CA 92866
UID:e.121.11047
SEQUENCE:3
DTSTAMP:20260419T122635Z
URL:https://business.orangechamber.com/events/details/palmyra-elementary-school-ribbon-cutting-11047
END:VEVENT

END:VCALENDAR
