BEGIN:VCALENDAR
VERSION:2.0
PRODID:-//ChamberMaster//Event Calendar 2.0//EN
METHOD:PUBLISH
X-PUBLISHED-TTL:P3D
REFRESH-INTERVAL:P3D
CALSCALE:GREGORIAN
BEGIN:VEVENT
DTSTART:20220708T003000Z
DTEND:20220708T033000Z
X-MICROSOFT-CDO-ALLDAYEVENT:FALSE
SUMMARY:Orange Chamber's Board Installation & Dinner Gala
DESCRIPTION:Come and help us celebrate the culmination of our 100th anniversary year and join us at the Board Installation & Dinner Gala on July 7th\, 2022 at 5:30pm at The Woman's Club Event Center!\n\n\n\nFeaturing:\n\n\n	Awards Ceremony\n	Opportunity Drawings\n	Performance by Odmoia\n	and proudly premiering\, "Sweet Orange\," a gift of song to our City!\n\n\n\n\nPricing:\n\nIndividual Tickets (Members) - $65\n\nIndividual Tickets (Non-Members)- $75\n\nTable Sponsorship - $750 *\n\n\n\n* One Table Fits 8 Individuals \n\n\n\nIf you are interested in purchasing a table sponsorship online\, please register using your name and choose the table sponsor option. After you have completed the transaction\, please email connie@orangechamber.com with the names of your 7 additional attendees and she will add them onto your guest list.\n\n \n\nCocktail Attire
X-ALT-DESC;FMTTYPE=text/html:<div class="_04xlpA direction-ltr align-center para-style-body" letter-spacing:="" line-height:="" yackod1yzn0=""><span style="font-family:arial\;"><span class="JsGRdQ">Come and help us celebrate the culmination of our 100th anniversary year and join us at the Board Installation &amp\; Dinner Gala on July 7th\, 2022 at 5:30pm at The Woman&#39\;s Club Event Center!</span><br />\n<br />\n<span style="text-decoration-line: underline\;">Featuring:</span></span></div>\n\n<ul>\n	<li class="_04xlpA direction-ltr align-center para-style-body" letter-spacing:="" line-height:="" yackod1yzn0=""><span style="font-family:arial\;"><span class="JsGRdQ">Awards Ceremony</span></span></li>\n	<li class="_04xlpA direction-ltr align-center para-style-body" letter-spacing:="" line-height:="" yackod1yzn0=""><span style="font-family:arial\;"><span class="JsGRdQ">Opportunity Drawings</span></span></li>\n	<li class="_04xlpA direction-ltr align-center para-style-body" letter-spacing:="" line-height:="" yackod1yzn0=""><span style="font-family:arial\;"><span class="JsGRdQ">Performance by Odmoia</span></span></li>\n	<li class="_04xlpA direction-ltr align-center para-style-body" letter-spacing:="" line-height:="" yackod1yzn0=""><span style="font-family:arial\;"><span class="JsGRdQ">and proudly premiering\,</span><span class="JsGRdQ white-space-prewrap"> <span class="JsGRdQ">&quot\;Sweet Orange\,&quot\; a gift of song to</span><span class="JsGRdQ white-space-prewrap"> <span class="JsGRdQ">our City!</span></span></span></span></li>\n</ul>\n\n<p class="_04xlpA direction-ltr align-center para-style-body" letter-spacing:="" line-height:="" yackod1yzn0=""><br />\n<span style="font-family:arial\;"><u>Pricing:</u></span></p>\n\n<p class="_04xlpA direction-ltr align-center para-style-body" letter-spacing:="" line-height:="" yackod1yzn0=""><span style="font-family:arial\;">Individual Tickets (Members) - $65<br />\nIndividual Tickets (Non-Members)- $75<br />\nTable Sponsorship - $750 *<br />\n<br />\n* One Table Fits 8 Individuals&nbsp\;<br />\n<br />\nIf you are interested in purchasing a table sponsorship online\, please register using your name and choose the table sponsor option. After you have completed the transaction\, please email connie@orangechamber.com with the names of your 7 additional attendees and she will add them&nbsp\;onto your guest list.</span></p>\n\n<p class="_04xlpA direction-ltr align-center para-style-body" letter-spacing:="" line-height:="" yackod1yzn0="">&nbsp\;</p>\n\n<p class="_04xlpA direction-ltr align-center para-style-body" letter-spacing:="" line-height:="" yackod1yzn0=""><span style="font-family:arial\;"><span class="JsGRdQ">Cocktail Attire</span></span></p>\n
LOCATION:The Woman's Club Event Center 121 S. Center Street\, Orange
UID:e.121.10860
SEQUENCE:3
DTSTAMP:20260420T122956Z
URL:https://business.orangechamber.com/events/details/orange-chamber-s-board-installation-dinner-gala-10860
END:VEVENT

END:VCALENDAR
