BEGIN:VCALENDAR
VERSION:2.0
PRODID:-//ChamberMaster//Event Calendar 2.0//EN
METHOD:PUBLISH
X-PUBLISHED-TTL:P3D
REFRESH-INTERVAL:P3D
CALSCALE:GREGORIAN
BEGIN:VEVENT
DTSTART:20251025T010000Z
DTEND:20251025T043000Z
X-MICROSOFT-CDO-ALLDAYEVENT:FALSE
SUMMARY:Orange Chamber Foundation's Blood Orange Ball
DESCRIPTION:The Orange Chamber of Commerce Foundation presents their annual Blood Orange Ball on October 24th from 6pm-9:30pm. This event is 21+!\n\n\n\nThere will be a costume contest\, dancing\, and scares! \n\n\n\nSingle Ticket includes admission\, 1 food ticket\, and 1 drink ticket. Please provide the name of each guest for every ticket purchased. Table Sponsor includes 10 admissions\, 10 food tickets\, 20 drink tickets\, and 10 raffle tickets. Sponsorship also includes recognition on our event banner\, website\, and social media. Please provide the names of all guests (maximum 10 per table).\n\n\n\nPurchase tickets here!
X-ALT-DESC;FMTTYPE=text/html:The Orange Chamber of Commerce Foundation presents their annual Blood Orange Ball on October 24th from 6pm-9:30pm.<strong> This event is 21+!</strong><br />\n<br />\nThere will be a costume contest\, dancing\, and scares!&nbsp\;<br />\n<br />\nSingle Ticket includes admission\, 1 food ticket\, and 1 drink ticket. Please provide the name of each guest for every ticket purchased. Table Sponsor includes 10 admissions\, 10 food tickets\, 20 drink tickets\, and 10 raffle tickets. Sponsorship also includes recognition on our event banner\, website\, and social media. Please provide the names of all guests (maximum 10 per table).<br />\n<br />\n<strong><a href="https://swipesimple.com/links/lnk_5aa6af5f13ede3d10ebb76e42f9efc6c?fbclid=IwY2xjawMcMSNleHRuA2FlbQIxMABicmlkETFGdDVJYkwxdUlBWE5nY2xYAR4583O7Rt72N3rU5vaLjwWocso5xRshT2eGLdyrZvgJXFQucRtFpbrSdDmDsQ_aem_A9Ku5c4fjeH8dF_h3geyAg">Purchase tickets here!</a></strong>
LOCATION:The Woman's Club Event Center 121 South Center Street\, Orange\, California 92866
UID:e.121.11334
SEQUENCE:3
DTSTAMP:20260422T154707Z
URL:https://business.orangechamber.com/events/details/orange-chamber-foundation-s-blood-orange-ball-11334
END:VEVENT

END:VCALENDAR
