BEGIN:VCALENDAR
VERSION:2.0
PRODID:-//ChamberMaster//Event Calendar 2.0//EN
METHOD:PUBLISH
X-PUBLISHED-TTL:P3D
REFRESH-INTERVAL:P3D
CALSCALE:GREGORIAN
BEGIN:VEVENT
DTSTART:20260513T000000Z
DTEND:20260513T020000Z
X-MICROSOFT-CDO-ALLDAYEVENT:FALSE
SUMMARY:Networking for Introverts
DESCRIPTION:Join us for an exciting networking event! Connect with like-minded professionals in a series of fast-paced\, one-on-one conversations. Expand your network\, share ideas\, and discover opportunities\, all in an energetic\, time-efficient setting. Perfect for building valuable connections in a fun\, dynamic atmosphere.\n\n\n\nThis event is presented by Maria Medina of The Coaching Network.\n\n\n\nAbout The Coaching Network:\n\nAs one of the top business coaching companies\, The Coaching Network also offers one-off consultation sessions and specialized classes for groups and individuals. These sessions cover a wide range of areas\, including Sales\, Marketing\, Networking\, Goal Setting\, and much more\, ensuring comprehensive support for all aspects of business development.
X-ALT-DESC;FMTTYPE=text/html:Join us for an exciting networking event! Connect with like-minded professionals in a series of fast-paced\, one-on-one conversations. Expand your network\, share ideas\, and discover opportunities\, all in an energetic\, time-efficient setting. Perfect for building valuable connections in a fun\, dynamic atmosphere.<br />\n<br />\nThis event is presented by Maria Medina of The Coaching Network.<br />\n<br />\n<strong>About The Coaching Network:</strong><br />\nAs one of the top business coaching companies\, The Coaching Network also offers one-off consultation sessions and specialized classes for groups and individuals. These sessions cover a wide range of areas\, including Sales\, Marketing\, Networking\, Goal Setting\, and much more\, ensuring comprehensive support for all aspects of business development.
LOCATION:TailoredSpaces
UID:e.121.11738
SEQUENCE:3
DTSTAMP:20260421T203238Z
URL:https://business.orangechamber.com/events/details/networking-for-introverts-11738
END:VEVENT

END:VCALENDAR
