BEGIN:VCALENDAR
VERSION:2.0
PRODID:-//ChamberMaster//Event Calendar 2.0//EN
METHOD:PUBLISH
X-PUBLISHED-TTL:P3D
REFRESH-INTERVAL:P3D
CALSCALE:GREGORIAN
BEGIN:VEVENT
DTSTART:20230316T003000Z
DTEND:20230316T023000Z
X-MICROSOFT-CDO-ALLDAYEVENT:FALSE
SUMMARY:Multi-Chamber Mixer After Work (Hosted by Garden Grove Chamber)
DESCRIPTION:The Garden Grove Chamber of Commerce has invited members of the Orange Chamber of Commerce to a Multi Chamber Mixer on Wednesday\, March 15th\, 2023 from 5:30pm-7:30pm.\n\n\n\nOther Chambers in Attendance:\n\n	Westminster Chamber of Commerce\n	Anaheim Chamber of Commerce\n	Cypress Chamber of Commerce\n	Foundation Valley Chamber of Commerce\n	Santa Ana Chamber of Commerce\n\nRegister for this event on Garden Grove Chamber of Commerce's website!\n\n\n\nInstructions: \n\n\n	Once you get to the Garden Grove Chamber website\, please click the "Register" button for the event. \n	Click the link in the "Not a member?" section. \n	Choose the "Members of Participating Chambers ($10)" option\n	Fill in your information in the space provided. In the comments section\, please indicate that you are a member of the Orange Chamber of Commerce. \n	Complete your registration as prompted.
X-ALT-DESC;FMTTYPE=text/html:<span style="font-size:18px\;"><strong>The Garden Grove Chamber of Commerce has invited members of the Orange Chamber of Commerce to a Multi Chamber Mixer on Wednesday\, March 15th\, 2023 from 5:30pm-7:30pm.</strong><br />\n<br />\nOther Chambers in Attendance:</span>\n<ul>\n	<li><span style="font-size:18px\;">Westminster Chamber of Commerce</span></li>\n	<li><span style="font-size:18px\;">Anaheim Chamber of Commerce</span></li>\n	<li><span style="font-size:18px\;">Cypress Chamber of Commerce</span></li>\n	<li><span style="font-size:18px\;">Foundation Valley Chamber of Commerce</span></li>\n	<li><span style="font-size:18px\;">Santa Ana Chamber of Commerce</span></li>\n</ul>\n<span style="font-size:18px\;"><span style="font-size:20px\;"><strong><a href="https://gardengrovechamber.chambermaster.com/eventregistration/register/5628"><span style="color:#FF8C00\;">Register for this event on Garden Grove Chamber of Commerce&#39\;s website!</span></a></strong></span><br />\n<br />\n<strong>Instructions:&nbsp\;</strong></span>\n\n<ol>\n	<li><span style="font-size:18px\;">Once you get to the Garden Grove Chamber website\, please click the &quot\;Register&quot\; button for the event.&nbsp\;</span></li>\n	<li><span style="font-size:18px\;">Click the link in the &quot\;Not a member?&quot\; section.&nbsp\;</span></li>\n	<li><span style="font-size:18px\;">Choose the &quot\;Members of Participating Chambers ($10)&quot\; option</span></li>\n	<li><span style="font-size:18px\;">Fill in your information in the space provided. In the comments section\, please indicate that you are a member of the Orange Chamber of Commerce.&nbsp\;</span></li>\n	<li><span style="font-size:18px\;">Complete your registration as prompted.</span></li>\n</ol>\n
LOCATION:Southland 12131 Western Ave.\, Garden Grove\, 92841
UID:e.121.11044
SEQUENCE:3
DTSTAMP:20260419T122740Z
URL:https://business.orangechamber.com/events/details/multi-chamber-mixer-after-work-hosted-by-garden-grove-chamber-11044
END:VEVENT

END:VCALENDAR
