BEGIN:VCALENDAR
VERSION:2.0
PRODID:-//ChamberMaster//Event Calendar 2.0//EN
METHOD:PUBLISH
X-PUBLISHED-TTL:P3D
REFRESH-INTERVAL:P3D
CALSCALE:GREGORIAN
BEGIN:VEVENT
DTSTART:20251121T010000Z
DTEND:20251121T030000Z
X-MICROSOFT-CDO-ALLDAYEVENT:FALSE
SUMMARY:Monthly Mixer at Laventina's Big Cheese Pizza & Rose Bakery Cafe
DESCRIPTION:We are excited to invite you to our monthly networking mixer! \n\n\n\nWe kindly request that all attendees register for this event to receive their badge and to assist with food and beverage planning. If you cannot register ahead of time\, we still welcome your attendance!\n\n\n\nOur monthly mixers are a fantastic opportunity to mingle with fellow chamber members\, share ideas\, and connect with local businesses in a relaxed setting while enjoying complimentary bites and drinks.\n\n\n\nWhether you're looking to expand your network\, get inspired\, or simply unwind from your workday\, this event promises to be a great evening.\n\n\n\nShowcase your marketing material\n\nAs a Chamber member\, you'll also have the exclusive opportunity to showcase your company's marketing materials at the event. Don't miss this chance to boost your visibility and make powerful connections!\n\n\n\nContact sheet\n\nEach person in attendance who shares their business card will be added to our contact sheet. This list is emailed after the event to attendees.\n\n\n\nBring a door prize!\n\nBringing a door prize is a great way to increase visibility for your business by highlighting your products and services to our members and guests. Door prizes should have a minimum value of $25\, and they will be displayed at the event. Donors will be recognized at the event and via social media. If you are interested in donating\, please bring the door prize with you the day of the event. All door prizes must be a stand-alone value and not be a discount or % off with purchase offer.\n\n\n\nAbout Laventina's Big Cheese Pizza:\n\nLaventina's Big Cheese Pizza was started with the idea of giving everyone an opportunity to purchase great pizza at a wholesale price. Instead of giving discounts only to those who place large orders\, they decided to give everyone a discounted wholesale price.\n\n\n\nThis unique concept\, along with serving great pizza allowed them to become one of the largest volume pizzerias in all of Southern California!\n\n\n\nAbout Rose Bakery Cafe:\n\nRose Bakery Cafe has been a destination in Corona Del Mar for the last 27 years.  Recently\, they opened their second location in Irvine\, and now their third location in Orange!    \n\n\n\nRose Bakery Cafe is known for their mouthwatering donuts\, richly aromatic coffee options\, and world-renowned burritos. Not to mention their artisanal baked goods are made fresh every day.
X-ALT-DESC;FMTTYPE=text/html:We are excited to invite you to our monthly networking mixer!&nbsp\;<br />\n<br />\nWe kindly request that all attendees register for this event to receive their badge and to assist with food and beverage planning. If you cannot register ahead of time\, we still welcome your attendance!<br />\n<br />\nOur monthly mixers are a fantastic opportunity to mingle with fellow chamber members\, share ideas\, and connect with local businesses in a relaxed setting while enjoying complimentary bites and drinks.<br />\n<br />\nWhether you&#39\;re looking to expand your network\, get inspired\, or simply unwind from your workday\, this event promises to be a great evening.<br />\n<br />\n<strong>Showcase your marketing material</strong><br />\nAs a Chamber member\, you&rsquo\;ll also have the exclusive opportunity to showcase your company&rsquo\;s marketing materials at the event. Don&rsquo\;t miss this chance to boost your visibility and make powerful connections!<br />\n<br />\n<strong>Contact sheet</strong><br />\nEach person in attendance who shares their business card will be added to our contact sheet. This list is emailed after the event to attendees.<br />\n<br />\n<strong>Bring a door prize!</strong><br />\nBringing a door prize is a great way to increase visibility for your business by highlighting your products and services to our members and guests. Door prizes should have a minimum value of $25\, and they will be displayed at the event. Donors will be recognized at the event and via social media. If you are interested in donating\, please bring the door prize with you the day of the event. All door prizes must be a stand-alone value and not be a discount or % off with purchase offer.<br />\n<br />\n<strong>About Laventina&#39\;s Big Cheese Pizza:</strong><br />\nLaventina&rsquo\;s Big Cheese Pizza was started with the idea of giving everyone an opportunity to purchase great pizza at a wholesale price. Instead of giving discounts only to those who place large orders\, they decided to give everyone a discounted wholesale price.<br />\n<br />\nThis unique concept\, along with serving great pizza allowed them&nbsp\;to become one of the largest volume pizzerias in all of Southern California!<br />\n<br />\n<strong>About Rose Bakery Cafe:</strong><br />\nRose Bakery Cafe has been a destination in Corona Del Mar for the last 27 years.&nbsp\; Recently\, they&nbsp\;opened their second location in Irvine\, and now their&nbsp\;third location in Orange!&nbsp\;&nbsp\; &nbsp\;<br />\n<br />\nRose Bakery Cafe is&nbsp\;known for their mouthwatering donuts\, richly aromatic coffee options\, and world-renowned burritos. Not to mention their&nbsp\;artisanal baked goods are made fresh every day.
LOCATION:
UID:e.121.11488
SEQUENCE:3
DTSTAMP:20260422T161447Z
URL:https://business.orangechamber.com/events/details/monthly-mixer-at-laventina-s-big-cheese-pizza-rose-bakery-cafe-11488
END:VEVENT

END:VCALENDAR
