BEGIN:VCALENDAR
VERSION:2.0
PRODID:-//ChamberMaster//Event Calendar 2.0//EN
METHOD:PUBLISH
X-PUBLISHED-TTL:P3D
REFRESH-INTERVAL:P3D
CALSCALE:GREGORIAN
BEGIN:VEVENT
DTSTART:20230526T000000Z
DTEND:20230526T020000Z
X-MICROSOFT-CDO-ALLDAYEVENT:FALSE
SUMMARY:May Chamber Mixer with Hello Optometry
DESCRIPTION:Please join us on May 25th from 5-7pm for our May Chamber Member at Hello Optometry!
X-ALT-DESC;FMTTYPE=text/html:Please join us on May 25th from 5-7pm for our May Chamber Member at Hello Optometry!&nbsp\;
LOCATION:Hello Optometry 141 N. Glassell St. Orange\, CA 92866
UID:e.121.11051
SEQUENCE:3
DTSTAMP:20260419T135732Z
URL:https://business.orangechamber.com/events/details/may-chamber-mixer-with-hello-optometry-11051
END:VEVENT

END:VCALENDAR
