BEGIN:VCALENDAR
VERSION:2.0
PRODID:-//ChamberMaster//Event Calendar 2.0//EN
METHOD:PUBLISH
X-PUBLISHED-TTL:P3D
REFRESH-INTERVAL:P3D
CALSCALE:GREGORIAN
BEGIN:VEVENT
DTSTART:20210608T190000Z
DTEND:20210608T200000Z
X-MICROSOFT-CDO-ALLDAYEVENT:FALSE
SUMMARY:Lunch and Learn (EVENT POSTPONED)
DESCRIPTION:This webinar is presented to you by the Orange Chamber of Commerce in partnership with the CSUF Small Business Development Center.  Join us for an enticing one hour presentation to learn about the ins and outs of Amazon and how to leverage the platform for growth opportunities.\n\n\n\nIn this webinar\, we will discuss:\n\n- Why could Amazon be a good fit for your  business?\n\n- How to get started?\n\n- How to choose the right selling plan\n\n- Product research\, pricing\, listings and analytics\n\n \n\nThrough this webinar\, we will also show you tools to help you decide on next steps.
X-ALT-DESC;FMTTYPE=text/html:<span style="font-size:12px\;"><span style="font-family:verdana\;"><strong><span style="color:#444444\;">This webinar is presented to you by the Orange Chamber of Commerce in partnership with the CSUF Small Business Development Center.&nbsp\;</span></strong><strong><span style="color:#222222\;">&nbsp\;Join us for an enticing one hour presentation to learn about the ins and outs of Amazon and how to leverage the platform for growth opportunities.<br />\n<br />\nIn this webinar\, we will discuss:</span></strong><br />\n<strong><span style="color:#222222\;">- Why could Amazon be a good fit for your&nbsp\; business?</span></strong><br />\n<strong><span style="color:#222222\;">- How to get started?</span></strong><br />\n<strong><span style="color:#222222\;">- How to choose the right selling plan</span></strong><br />\n<strong><span style="color:#222222\;">- Product research\, pricing\, listings and analytics</span></strong><br />\n&nbsp\;<br />\n<strong><span style="color:#222222\;">Through this webinar\, we will also show you tools to help you decide on next steps.</span></strong></span></span>
LOCATION:Virtual on Zoom
UID:e.121.10778
SEQUENCE:3
DTSTAMP:20260425T231744Z
URL:https://business.orangechamber.com/events/details/lunch-and-learn-event-postponed-10778
END:VEVENT

END:VCALENDAR
