BEGIN:VCALENDAR
VERSION:2.0
PRODID:-//ChamberMaster//Event Calendar 2.0//EN
METHOD:PUBLISH
X-PUBLISHED-TTL:P3D
REFRESH-INTERVAL:P3D
CALSCALE:GREGORIAN
BEGIN:VEVENT
DTSTART:20220422T170000Z
DTEND:20220422T183000Z
X-MICROSOFT-CDO-ALLDAYEVENT:FALSE
SUMMARY:L.E.O.: Working with Others and Emotional Intelligence
DESCRIPTION:L.E.O. - Leaders & Entrepreneurs of Orange\n\nGuiding the leaders of our future\n \n\nGoal & Purpose: Leaders & Entrepreneurs of Orange strives to provide professional guidance\, educational workshops\, and volunteer opportunities to local college students to help them prepare for life after graduation. \n\n\n\nOverview: Working with Others and Emotional Intelligence\n\nBehavioral psychologists have researched the theory that people's behavior can be roughly classified into four groups. By recognizing your dominant style and developing the ability to identify traits in others\, you can use Emotional Intelligence to change your behavior to interact with a wide variety of personalities and tendencies.\n\n\n\nWhat You'll Learn\n\n\n	Identify their own personality style and how they react under pressure\n	Modify their behaviors to better connect with people of different styles\n	Influence the attitudes and behaviors of others\n\nWhy You Want to Learn It \n\n\n\nEmotional Intelligence will help you practice active listening and interpersonal skills to create harmony in stressful situations and bring people together who otherwise may be separated by their differences.\n\n\n\nHow it Will Help You\n\nThis Emotional Intelligence workshop helps you to see things from multiple points of view\, how actions impact others\, and what you can do to affect collaboration.\n\n\n\nPresented By:\n\nOscar Toscano\n\nDale Carnegie of Orange County \n\n(949)774-8234\n\n\n\nDale Carnegie of Orange County | Improving Leadership Effectiveness (ocdalecarnegie.com)
X-ALT-DESC;FMTTYPE=text/html:<p dir="ltr" style="line-height:1.38\;margin-top:0pt\;margin-bottom:0pt\;"><span style="font-size:14px\;"><span id="docs-internal-guid-879507bb-7fff-9e97-bf4f-7305e9f7130c"><span style="color: rgb(0\, 0\, 0)\; background-color: transparent\; font-weight: 700\; font-variant-numeric: normal\; font-variant-east-asian: normal\; vertical-align: baseline\; white-space: pre-wrap\;">L.E.O.&nbsp\;- Leaders &amp\; Entrepreneurs of Orange</span></span></span></p>\n\n<p dir="ltr" style="line-height:1.38\;margin-top:0pt\;margin-bottom:0pt\;"><span style="font-size:14px\;"><span id="docs-internal-guid-879507bb-7fff-9e97-bf4f-7305e9f7130c"><span style="color: rgb(0\, 0\, 0)\; background-color: transparent\; font-variant-numeric: normal\; font-variant-east-asian: normal\; vertical-align: baseline\; white-space: pre-wrap\;">Guiding the leaders of our future</span></span></span></p>\n&nbsp\;\n\n<p dir="ltr" style="line-height:1.38\;margin-top:0pt\;margin-bottom:0pt\;"><span style="font-size:14px\;"><span id="docs-internal-guid-879507bb-7fff-9e97-bf4f-7305e9f7130c"><span style="color: rgb(0\, 0\, 0)\; background-color: transparent\; font-weight: 700\; font-variant-numeric: normal\; font-variant-east-asian: normal\; vertical-align: baseline\; white-space: pre-wrap\;">Goal &amp\; Purpose:</span><span style="color: rgb(0\, 0\, 0)\; background-color: transparent\; font-variant-numeric: normal\; font-variant-east-asian: normal\; vertical-align: baseline\; white-space: pre-wrap\;"> Leaders &amp\; Entrepreneurs of Orange strives to provide professional guidance\, educational workshops\, and volunteer opportunities to local college students to help them prepare for life after graduation.&nbsp\;</span></span></span></p>\n\n<div><br />\n<span style="font-size:14px\;"><u><span id="docs-internal-guid-0845f07f-7fff-e9cc-aaec-2a8875053a39"><span style="color: rgb(0\, 0\, 0)\; background-color: transparent\; font-weight: 700\; font-variant-numeric: normal\; font-variant-east-asian: normal\; vertical-align: baseline\; white-space: pre-wrap\;">Overview: Working with Others and Emotional Intelligence</span></span></u><br />\n<span id="docs-internal-guid-0845f07f-7fff-e9cc-aaec-2a8875053a39"><span style="color: rgb(0\, 0\, 0)\; background-color: transparent\; font-variant-numeric: normal\; font-variant-east-asian: normal\; vertical-align: baseline\; white-space: pre-wrap\;">Behavioral psychologists have researched the theory that people&rsquo\;s behavior can be roughly classified into four groups. By recognizing your dominant style and developing the ability to identify traits in others\, you can use Emotional Intelligence to change your behavior to interact with a wide variety of personalities and tendencies.</span></span><br />\n<br />\n<u><span id="docs-internal-guid-0845f07f-7fff-e9cc-aaec-2a8875053a39"><span style="color: rgb(0\, 0\, 0)\; background-color: transparent\; font-weight: 700\; font-variant-numeric: normal\; font-variant-east-asian: normal\; vertical-align: baseline\; white-space: pre-wrap\;">What You&rsquo\;ll Learn</span></span></u></span></div>\n\n<ul dir="ltr">\n	<li style="line-height: 1.38\; margin-top: 0pt\; margin-bottom: 0pt\;"><span style="font-size:14px\;"><span style="color: rgb(0\, 0\, 0)\; background-color: transparent\; font-variant-numeric: normal\; font-variant-east-asian: normal\; vertical-align: baseline\; white-space: pre-wrap\;">Identify their own personality style and how they react under pressure</span></span></li>\n	<li style="line-height: 1.38\; margin-top: 0pt\; margin-bottom: 0pt\;"><span style="font-size:14px\;"><span id="docs-internal-guid-0845f07f-7fff-e9cc-aaec-2a8875053a39"><span style="color: rgb(0\, 0\, 0)\; background-color: transparent\; font-variant-numeric: normal\; font-variant-east-asian: normal\; vertical-align: baseline\; white-space: pre-wrap\;">Modify their behaviors to better connect with people of different styles</span></span></span></li>\n	<li style="line-height: 1.38\; margin-top: 0pt\; margin-bottom: 0pt\;"><span style="font-size:14px\;"><span id="docs-internal-guid-0845f07f-7fff-e9cc-aaec-2a8875053a39"><span style="color: rgb(0\, 0\, 0)\; background-color: transparent\; font-variant-numeric: normal\; font-variant-east-asian: normal\; vertical-align: baseline\; white-space: pre-wrap\;">Influence the attitudes and behaviors of others</span></span></span></li>\n</ul>\n<span style="font-size:14px\;"><span style="color: rgb(0\, 0\, 0)\; font-weight: 700\; white-space: pre-wrap\;"><u>Why You Want to Learn It </u></span><br />\n<br />\n<span style="background-color: transparent\; color: rgb(0\, 0\, 0)\; white-space: pre-wrap\;">Emotional Intelligence will help you practice active listening and interpersonal skills to create harmony in stressful situations and bring people together who otherwise may be separated by their differences.</span><br />\n<br />\n<span style="background-color: transparent\; color: rgb(0\, 0\, 0)\; font-weight: 700\; white-space: pre-wrap\;">How it Will Help You</span><br />\n<span style="background-color: transparent\; color: rgb(0\, 0\, 0)\; white-space: pre-wrap\;">This Emotional Intelligence workshop helps you to see things from multiple points of view\, how actions impact others\, and what you can do to affect collaboration.</span></span>\n\n<div><br />\n<span style="font-size:14px\;"><u><span style="color: rgb(0\, 0\, 0)\; font-weight: 700\; white-space: pre-wrap\;">Presented By:</span></u><br />\n<a href="http://oscar.toscano@dalecarnegie.com">Oscar Toscano</a><br />\nDale Carnegie of Orange County&nbsp\;<br />\n<a href="tel:(949)774-8234">(949)774-8234</a><br />\n<br />\n<a href="https://ocdalecarnegie.com/">Dale Carnegie of Orange County | Improving Leadership Effectiveness (ocdalecarnegie.com)</a></span></div>\n
LOCATION:Virtual
UID:e.121.10844
SEQUENCE:3
DTSTAMP:20260423T231034Z
URL:https://business.orangechamber.com/events/details/l-e-o-working-with-others-and-emotional-intelligence-10844
END:VEVENT

END:VCALENDAR
