BEGIN:VCALENDAR
VERSION:2.0
PRODID:-//ChamberMaster//Event Calendar 2.0//EN
METHOD:PUBLISH
X-PUBLISHED-TTL:P3D
REFRESH-INTERVAL:P3D
CALSCALE:GREGORIAN
BEGIN:VEVENT
DTSTART:20230629T230000Z
DTEND:20230630T000000Z
X-MICROSOFT-CDO-ALLDAYEVENT:FALSE
SUMMARY:Hotel Fera Ribbon Cutting
DESCRIPTION:Please join us for a ribbon cutting ceremony on June 29th from 4pm-5pm to celebrate the grand opening of Hotel Fera\, a Doubletree by Hilton!
X-ALT-DESC;FMTTYPE=text/html:Please join us for a ribbon cutting ceremony on June 29th from 4pm-5pm to celebrate the grand opening of Hotel Fera\, a Doubletree by Hilton!
LOCATION:Hotel Fera\, a DoubleTree by Hilton 100 The City Drive Orange\, California 92868
UID:e.121.11053
SEQUENCE:3
DTSTAMP:20260419T153442Z
URL:https://business.orangechamber.com/events/details/hotel-fera-ribbon-cutting-11053
END:VEVENT

END:VCALENDAR
