BEGIN:VCALENDAR
VERSION:2.0
PRODID:-//ChamberMaster//Event Calendar 2.0//EN
METHOD:PUBLISH
X-PUBLISHED-TTL:P3D
REFRESH-INTERVAL:P3D
CALSCALE:GREGORIAN
BEGIN:VEVENT
DTSTART:20260715T150000Z
DTEND:20260715T163000Z
X-MICROSOFT-CDO-ALLDAYEVENT:FALSE
SUMMARY:Happy Mob at Cafe Zocalo
DESCRIPTION:Join us for a Breakfast Happy Mob at Cafe Zocalo on July 15th from 8:00 AM - 9:30 AM!
X-ALT-DESC;FMTTYPE=text/html:Join us for a Breakfast Happy Mob at Cafe Zocalo on July 15th from 8:00 AM - 9:30 AM!
LOCATION:Cafe Zocalo
UID:e.121.11741
SEQUENCE:3
DTSTAMP:20260422T233553Z
URL:https://business.orangechamber.com/events/details/happy-mob-at-cafe-zocalo-11741
END:VEVENT

END:VCALENDAR
