BEGIN:VCALENDAR
VERSION:2.0
PRODID:-//ChamberMaster//Event Calendar 2.0//EN
METHOD:PUBLISH
X-PUBLISHED-TTL:P3D
REFRESH-INTERVAL:P3D
CALSCALE:GREGORIAN
BEGIN:VEVENT
DTSTART:20210824T160000Z
DTEND:20210824T170000Z
X-MICROSOFT-CDO-ALLDAYEVENT:FALSE
SUMMARY:Eggs & Issues with Police Chief Dan Adams
DESCRIPTION:Eggs & Issues is an event series that covers a wide variety of interesting topics concerning the City of Orange and connects Chamber members with influential public figures and industry leaders.\n\nEach breakfast will have a new topic based on current and pressing issues around the region. This format will be the perfect place for community members to be in the know about current issues in and around Orange!\n\n\n\nThis month's special guest will be new Police Chief Dan Adams!\n\n\n*Opinions expressed by our Eggs & Issues guest speaker or panel are the speaker's / panelist's own views and do not reflect the view of the Orange Chamber of Commerce.
X-ALT-DESC;FMTTYPE=text/html:<div class="kvgmc6g5 cxmmr5t8 oygrvhab hcukyx3x c1et5uql" style="overflow-wrap: break-word\; margin: 0px\; font-family: &quot\;Segoe UI Historic&quot\;\, &quot\;Segoe UI&quot\;\, Helvetica\, Arial\, sans-serif\; color: rgb(5\, 5\, 5)\; font-size: 15px\; background-color: rgb(255\, 255\, 255)\;"><span style="font-size:16px\;">Eggs &amp\; Issues is an event series that covers a wide variety of interesting topics concerning the City of Orange and connects Chamber members with influential public figures and industry leaders.</span></div>\n\n<div class="o9v6fnle cxmmr5t8 oygrvhab hcukyx3x c1et5uql" style="overflow-wrap: break-word\; margin: 0.5em 0px 0px\; font-family: &quot\;Segoe UI Historic&quot\;\, &quot\;Segoe UI&quot\;\, Helvetica\, Arial\, sans-serif\; color: rgb(5\, 5\, 5)\; font-size: 15px\; background-color: rgb(255\, 255\, 255)\;"><span style="font-size:16px\;">Each breakfast will have a new topic based on current and pressing issues around the region. This format will be the perfect place for community members to be in the know about current issues in and around Orange!<br />\n<br />\nThis month&#39\;s special guest will be new Police Chief Dan Adams!</span></div>\n<br />\n<span style="font-size:16px\;"><span style="color: rgb(5\, 5\, 5)\; background-color: rgb(255\, 255\, 255)\;">*Opinions expressed by our Eggs &amp\; Issues guest speaker or panel are the speaker&#39\;s / panelist&#39\;s own views and do not reflect the view of the Orange Chamber of Commerce.&nbsp\;</span></span>
LOCATION:In-Person O Sea 109 S. Glassell St\, Orange CA 92866
UID:e.121.10655
SEQUENCE:3
DTSTAMP:20260425T194201Z
URL:https://business.orangechamber.com/events/details/eggs-issues-with-police-chief-dan-adams-10655
END:VEVENT

END:VCALENDAR
