BEGIN:VCALENDAR
VERSION:2.0
PRODID:-//ChamberMaster//Event Calendar 2.0//EN
METHOD:PUBLISH
X-PUBLISHED-TTL:P3D
REFRESH-INTERVAL:P3D
CALSCALE:GREGORIAN
BEGIN:VEVENT
DTSTART:20210928T150000Z
DTEND:20210928T160000Z
X-MICROSOFT-CDO-ALLDAYEVENT:FALSE
SUMMARY:Eggs & Issues with OCBC's Jennifer Ward
DESCRIPTION:Join us next Tuesday\, September 28th\, at 8am for our next Eggs and Issues with the Senior Vice President of Advocacy & Government Affairs for the Orange County Business Council\, Jennifer Ward! \n\n \n\nEggs & Issues is an event series that covers a wide variety of interesting topics concerning the City of Orange and connects Chamber members with influential public figures and industry leaders.\n\n \n\nEach breakfast will have a new topic based on current and pressing issues around the region. This format will be the perfect place for community members to be in the know about current issues in and around Orange!\n\n\n\n\n\n*Opinions expressed by our Eggs & Issues guest speaker or panel are the speaker's / panelist's own views and do not reflect the view of the Orange Chamber of Commerce.
X-ALT-DESC;FMTTYPE=text/html:<div class="kvgmc6g5 cxmmr5t8 oygrvhab hcukyx3x c1et5uql" style="overflow-wrap: break-word\; margin: 0px\; font-family: &quot\;Segoe UI Historic&quot\;\, &quot\;Segoe UI&quot\;\, Helvetica\, Arial\, sans-serif\; color: rgb(5\, 5\, 5)\; font-size: 15px\; background-color: rgb(255\, 255\, 255)\;">\n<div style="color: rgb(56\, 72\, 86)\; font-family: &quot\;Trebuchet MS&quot\;\, Verdana\, Helvetica\, sans-serif\; font-size: 14px\; white-space: pre-wrap\; text-align: center\;"><span style="font-family: Arial\, Verdana\, Helvetica\, sans-serif\;">Join us next Tuesday\, September 28th\, at 8am for our next Eggs and Issues with the Senior Vice President of Advocacy &amp\; Government Affairs for the Orange County Business Council\, Jennifer Ward! </span></div>\n\n<div style="color: rgb(56\, 72\, 86)\; font-family: &quot\;Trebuchet MS&quot\;\, Verdana\, Helvetica\, sans-serif\; font-size: 14px\; white-space: pre-wrap\; text-align: center\;">&nbsp\;</div>\n\n<div style="color: rgb(56\, 72\, 86)\; font-family: &quot\;Trebuchet MS&quot\;\, Verdana\, Helvetica\, sans-serif\; font-size: 14px\; white-space: pre-wrap\; text-align: center\;"><span style="color: rgb(5\, 5\, 5)\; font-family: Arial\, Verdana\, Helvetica\, sans-serif\;">Eggs &amp\; Issues is an event series that covers a wide variety of interesting topics concerning the City of Orange and connects Chamber members with influential public figures and industry leaders.</span></div>\n\n<div style="color: rgb(56\, 72\, 86)\; font-family: &quot\;Trebuchet MS&quot\;\, Verdana\, Helvetica\, sans-serif\; font-size: 14px\; white-space: pre-wrap\; text-align: center\;">&nbsp\;</div>\n\n<div style="color: rgb(56\, 72\, 86)\; font-family: &quot\;Trebuchet MS&quot\;\, Verdana\, Helvetica\, sans-serif\; font-size: 14px\; white-space: pre-wrap\; text-align: center\;"><span style="color: rgb(5\, 5\, 5)\; font-family: Arial\, Verdana\, Helvetica\, sans-serif\;">Each breakfast will have a new topic based on current and pressing issues around the region. This format will be the perfect place for community members to be in the know about current issues in and around Orange!</span><br />\n<br />\n<br />\n<span style="color: rgb(51\, 51\, 51)\; font-family: Arial\, Verdana\, Helvetica\, sans-serif\;">*Opinions expressed by our Eggs &amp\; Issues guest speaker or panel are the speaker&#39\;s / panelist&#39\;s own views and do not reflect the view of the Orange Chamber of Commerce.&nbsp\;</span><br />\n&nbsp\;</div>\n</div>\n
LOCATION:O SEA 109 S Glassell St\, Orange\, CA 92866
UID:e.121.10656
SEQUENCE:3
DTSTAMP:20260424T115558Z
URL:https://business.orangechamber.com/events/details/eggs-issues-with-ocbc-s-jennifer-ward-10656
END:VEVENT

END:VCALENDAR
