BEGIN:VCALENDAR
VERSION:2.0
PRODID:-//ChamberMaster//Event Calendar 2.0//EN
METHOD:PUBLISH
X-PUBLISHED-TTL:P3D
REFRESH-INTERVAL:P3D
CALSCALE:GREGORIAN
BEGIN:VEVENT
DTSTART:20251028T150000Z
DTEND:20251028T160000Z
X-MICROSOFT-CDO-ALLDAYEVENT:FALSE
SUMMARY:Eggs & Issues Podcast with CA State Senator Dr. Steven Choi
DESCRIPTION:The Eggs & Issues Podcast\, presented by the Orange Chamber of Commerce\, brings the community together in a live-audience setting to hear directly from business leaders\, local officials\, and community partners about the issues shaping Orange. Recorded live at our monthly breakfast forum\, each episode captures the energy of the room and the conversations that matter most to our city.\n\n\n\nThe program runs from 8am to 9am\, with networking opportunities available before the event starting at 7:45am and after the event until 9:30am.\n\n\n\nEach breakfast will have a new topic based on current and pressing issues around the region. This format will be the perfect place for community members to be in the know about current issues in and around Orange!\n\n\n\n*Opinions expressed by our Eggs & Issues guest speaker or panel are the speaker's / panelist's own views and do not reflect the view of the Orange Chamber of Commerce.\n\n\n\nOur guest this month is California State Senator Dr. Steven Choi.
X-ALT-DESC;FMTTYPE=text/html:<div background-color:="" color:="" font-size:="" segoe="" ui=""><span style="color: rgb(22\, 39\, 47)\; font-family: Raleway\, sans-serif\; font-size: 16px\;">The Eggs &amp\; Issues Podcast\, presented by the Orange Chamber of Commerce\, brings the community together in a live-audience setting to hear directly from business leaders\, local officials\, and community partners about the issues shaping Orange. Recorded live at our monthly breakfast forum\, each episode captures the energy of the room and the conversations that matter most to our city.</span><br style="box-sizing: border-box\; color: rgb(22\, 39\, 47)\; font-family: Raleway\, sans-serif\; font-size: 16px\;" />\n<br style="box-sizing: border-box\; color: rgb(22\, 39\, 47)\; font-family: Raleway\, sans-serif\; font-size: 16px\;" />\n<span style="color: rgb(22\, 39\, 47)\; font-family: Raleway\, sans-serif\; font-size: 16px\;">The program runs from 8am to 9am\, with networking opportunities available before the event starting at 7:45am and after the event until 9:30am.</span><br style="box-sizing: border-box\; color: rgb(22\, 39\, 47)\; font-family: Raleway\, sans-serif\; font-size: 16px\;" />\n<br style="box-sizing: border-box\; color: rgb(22\, 39\, 47)\; font-family: Raleway\, sans-serif\; font-size: 16px\;" />\n<span style="color: rgb(22\, 39\, 47)\; font-family: Raleway\, sans-serif\; font-size: 16px\;">Each breakfast will have a new topic based on current and pressing issues around the region. This format will be the perfect place for community members to be in the know about current issues in and around Orange!</span><br style="box-sizing: border-box\; color: rgb(22\, 39\, 47)\; font-family: Raleway\, sans-serif\; font-size: 16px\;" />\n<br style="box-sizing: border-box\; color: rgb(22\, 39\, 47)\; font-family: Raleway\, sans-serif\; font-size: 16px\;" />\n<span style="color: rgb(22\, 39\, 47)\; font-family: Raleway\, sans-serif\; font-size: 16px\;">*Opinions expressed by our Eggs &amp\; Issues guest speaker or panel are the speaker&#39\;s / panelist&#39\;s own views and do not reflect the view of the Orange Chamber of Commerce.</span><br style="box-sizing: border-box\; color: rgb(22\, 39\, 47)\; font-family: Raleway\, sans-serif\; font-size: 16px\;" />\n<br style="box-sizing: border-box\; color: rgb(22\, 39\, 47)\; font-family: Raleway\, sans-serif\; font-size: 16px\;" />\n<span style="box-sizing: border-box\; font-weight: bolder\; color: rgb(22\, 39\, 47)\; font-family: Raleway\, sans-serif\; font-size: 16px\;">Our guest this month is California State Senator Dr. Steven Choi.</span></div>\n
LOCATION:The Velvet Rose Event Center
UID:e.121.10705
SEQUENCE:3
DTSTAMP:20260422T142952Z
URL:https://business.orangechamber.com/events/details/eggs-issues-podcast-with-ca-state-senator-dr-steven-choi-10705
END:VEVENT

END:VCALENDAR
