BEGIN:VCALENDAR
VERSION:2.0
PRODID:-//ChamberMaster//Event Calendar 2.0//EN
METHOD:PUBLISH
X-PUBLISHED-TTL:P3D
REFRESH-INTERVAL:P3D
CALSCALE:GREGORIAN
BEGIN:VEVENT
DTSTART:20260127T154500Z
DTEND:20260127T170000Z
X-MICROSOFT-CDO-ALLDAYEVENT:FALSE
SUMMARY:Eggs & Issues Podcast featuring Orange Police Chief Adam Jevec
DESCRIPTION:The program runs from 8am to 9am\, with networking opportunities available before the event starting at 7:45am and after the event until 9:30am.\n\n\n\nEach breakfast will have a new topic based on current and pressing issues around the region. This format will be the perfect place for community members to be in the know about current issues in and around Orange!\n\n\n\n*Opinions expressed by our Eggs & Issues guest speaker or panel are the speaker's / panelist's own views and do not reflect the view of the Orange Chamber of Commerce.\n\n\n\nThis month's special guest is Orange Chief of Police\, Adam Jevec\n\n\n\nAbout Chief Jevec: Adam Jevec has a rich history in law enforcement\, having served in various capacities within the Orange Police Department. His career began with the Arlington County Virginia Police Department in 2004 and continued with the Orange Police Department in 2006. Jevec has held multiple positions\, including Patrol Officer\, Field Training Officer\, SWAT Team member\, and Gang Unit Detective. He has been promoted to various ranks\, including Sergeant\, Lieutenant\, and Captain\, overseeing a wide range of operations and responsibilities. Jevec's dedication to the community and his commitment to public safety are evident in his role as the Chief of Police for the City of Orange.
X-ALT-DESC;FMTTYPE=text/html:<the a="" about="" and="" at="" br="" breakfast="" brings="" business="" by="" captures="" chamber="" community="" conversations="" directly="" each="" eggs="" energy="" episode="" from="" hear="" in="" issues="" live="" live-audience="" local="" matter="" monthly="" most="" of="" orange="" orange.="" our="" partners="" presented="" recorded="" room="" setting="" shaping="" that="" the="" to="" together=""><br />\nThe program runs from 8am to 9am\, with networking opportunities available before the event starting at 7:45am and after the event until 9:30am.<br />\n<br />\nEach breakfast will have a new topic based on current and pressing issues around the region. This format will be the perfect place for community members to be in the know about current issues in and around Orange!<br />\n<br />\n*Opinions expressed by our Eggs &amp\; Issues guest speaker or panel are the speaker&#39\;s / panelist&#39\;s own views and do not reflect the view of the Orange Chamber of Commerce.</the><br />\n<br />\nThis month&#39\;s special guest is Orange Chief of Police\, Adam Jevec<br />\n<br />\nAbout Chief Jevec: <p">Adam&nbsp\;Jevec&nbsp\;has&nbsp\;a&nbsp\;rich&nbsp\;history&nbsp\;in&nbsp\;law&nbsp\;enforcement\,&nbsp\;having&nbsp\;served&nbsp\;in&nbsp\;various&nbsp\;capacities&nbsp\;within&nbsp\;the&nbsp\;Orange&nbsp\;Police&nbsp\;Department.&nbsp\;His&nbsp\;career&nbsp\;began&nbsp\;with&nbsp\;the&nbsp\;Arlington&nbsp\;County&nbsp\;Virginia&nbsp\;Police&nbsp\;Department&nbsp\;in&nbsp\;2004&nbsp\;and&nbsp\;continued&nbsp\;with&nbsp\;the&nbsp\;Orange&nbsp\;Police&nbsp\;Department&nbsp\;in&nbsp\;2006.&nbsp\;Jevec&nbsp\;has&nbsp\;held&nbsp\;multiple&nbsp\;positions\,&nbsp\;including&nbsp\;Patrol&nbsp\;Officer\,&nbsp\;Field&nbsp\;Training&nbsp\;Officer\,&nbsp\;SWAT&nbsp\;Team&nbsp\;member\,&nbsp\;and&nbsp\;Gang&nbsp\;Unit&nbsp\;Detective.&nbsp\;He&nbsp\;has&nbsp\;been&nbsp\;promoted&nbsp\;to&nbsp\;various&nbsp\;ranks\,&nbsp\;including&nbsp\;Sergeant\,&nbsp\;Lieutenant\,&nbsp\;and&nbsp\;Captain\,&nbsp\;overseeing&nbsp\;a&nbsp\;wide&nbsp\;range&nbsp\;of&nbsp\;operations&nbsp\;and&nbsp\;responsibilities.&nbsp\;Jevec&#39\;s&nbsp\;dedication&nbsp\;to&nbsp\;the&nbsp\;community&nbsp\;and&nbsp\;his&nbsp\;commitment&nbsp\;to&nbsp\;public&nbsp\;safety&nbsp\;are&nbsp\;evident&nbsp\;in&nbsp\;his&nbsp\;role&nbsp\;as&nbsp\;the&nbsp\;Chief&nbsp\;of&nbsp\;Police&nbsp\;for&nbsp\;the&nbsp\;City&nbsp\;of&nbsp\;Orange.\n<p>&nbsp\;</p>\n</p">
LOCATION:Orange Cafe Bistro
UID:e.121.10708
SEQUENCE:3
DTSTAMP:20260424T074357Z
URL:https://business.orangechamber.com/events/details/eggs-issues-podcast-featuring-orange-police-chief-adam-jevec-10708
END:VEVENT

END:VCALENDAR
