BEGIN:VCALENDAR
VERSION:2.0
PRODID:-//ChamberMaster//Event Calendar 2.0//EN
METHOD:PUBLISH
X-PUBLISHED-TTL:P3D
REFRESH-INTERVAL:P3D
CALSCALE:GREGORIAN
BEGIN:VEVENT
DTSTART:20251106T170000Z
DTEND:20251106T180000Z
X-MICROSOFT-CDO-ALLDAYEVENT:FALSE
SUMMARY:Downtown Merchants’ Association Meeting
DESCRIPTION:Our upcoming Downtown Merchants' Association meeting promises to be a great one! We'll be going over how best to organize our group to get the most out of our association... and yes\, there will be coffee!\n\n\n\nThursday\, November 6th\n\n9:00am - 10:00am\n\nOrange City Hall - Weimer Room\n\n\n\nThank you AJ Ricci for agreeing to lead this group.\n\n\n\nPlease let us know if you'll be attending by sending an email to info@orangechamber.com or using the RSVP button below. We will send out an agenda to all who registered before the meeting date.\n\n\n\nWe appreciate you taking the time to meet and join together to make a stronger downtown area!
X-ALT-DESC;FMTTYPE=text/html:Our upcoming Downtown Merchants&#39\; Association meeting promises to be a great one! We&#39\;ll be going over how best to organize our group to get the most out of our association... and yes\, there will be coffee!<br />\n<br />\nThursday\, November 6th<br />\n9:00am - 10:00am<br />\nOrange City Hall - Weimer Room<br />\n<br />\nThank you AJ Ricci for agreeing to lead this group.<br />\n<br />\nPlease let us know if you&#39\;ll be attending by sending an email to info@orangechamber.com or using the RSVP button below. We will send out an agenda to all who registered before the meeting date.<br />\n<br />\nWe appreciate you taking the time to meet and join together to make a stronger downtown area!
LOCATION:
UID:e.121.11255
SEQUENCE:3
DTSTAMP:20260422T173845Z
URL:https://business.orangechamber.com/events/details/downtown-merchants-association-meeting-11-13-2025-11255
END:VEVENT

END:VCALENDAR
