BEGIN:VCALENDAR
VERSION:2.0
PRODID:-//ChamberMaster//Event Calendar 2.0//EN
METHOD:PUBLISH
X-PUBLISHED-TTL:P3D
REFRESH-INTERVAL:P3D
CALSCALE:GREGORIAN
BEGIN:VEVENT
DTSTART:20220422T010000Z
DTEND:20220422T030000Z
X-MICROSOFT-CDO-ALLDAYEVENT:FALSE
SUMMARY:Chamber Mixer at The Duchess on Cambridge
DESCRIPTION:Hello\, Chamber Members!\n\nPlease join us for Dinner & Drinks on the Patio at The Duchess on Cambridge on April 21st\, 2022 from 6-8pm.
X-ALT-DESC;FMTTYPE=text/html:<p class="_04xlpA direction-ltr align-center para-style-body" style="color: rgb(20\, 93\, 160)\; font-family: &quot\;YACgES4qGnk 0&quot\;\, _fb_\, auto\; --font-size:29.3333px\; --line-height:1\; line-height: 29px\;"><span class="JsGRdQ">Hello\, Chamber Members!</span></p>\n\n<p class="_04xlpA direction-ltr align-center para-style-body" style="color: rgb(20\, 93\, 160)\; font-family: &quot\;YACgES4qGnk 0&quot\;\, _fb_\, auto\; --font-size:29.3333px\; --line-height:1\; line-height: 29px\;"><span class="JsGRdQ">Please join us for Dinner &amp\; Drinks on the Patio at The Duchess on Cambridge on April 21st\, 2022 from 6-8pm.&nbsp\;</span></p>\n
LOCATION:The Duchess on Cambridge 910 E. Chapman Ave. Orange\, CA 92866
UID:e.121.10851
SEQUENCE:3
DTSTAMP:20260423T231158Z
URL:https://business.orangechamber.com/events/details/chamber-mixer-at-the-duchess-on-cambridge-10851
END:VEVENT

END:VCALENDAR
