BEGIN:VCALENDAR
VERSION:2.0
PRODID:-//ChamberMaster//Event Calendar 2.0//EN
METHOD:PUBLISH
X-PUBLISHED-TTL:P3D
REFRESH-INTERVAL:P3D
CALSCALE:GREGORIAN
BEGIN:VEVENT
DTSTART:20251107T013000Z
DTEND:20251107T033000Z
X-MICROSOFT-CDO-ALLDAYEVENT:FALSE
SUMMARY:Chamber Alliance Mixer - Hosted by the Yorba Linda Chamber
DESCRIPTION:"Grateful Gathering" Multi-Chamber Mixer hosted by the Yorba Linda Chamber of Commerce!\n\n\n\nJoin the Chamber Business Alliance for an evening of networking\, food\, drinks\, door prizes and plenty of fun!\n\n\n\nRegister for this event HERE.\n\n\n\nBring a door prize for extra recognition!
X-ALT-DESC;FMTTYPE=text/html:&quot\;Grateful Gathering&quot\; Multi-Chamber Mixer hosted by the Yorba Linda Chamber of Commerce!<br />\n<br />\nJoin the Chamber Business Alliance for an evening of networking\, food\, drinks\, door prizes and plenty of fun!<br />\n<br />\nRegister for this event <strong><a href="https://mms.yorbalindachamber.us/members/evr/reg_main.php?orgcode=YORB&amp\;evid=95494091">HERE</a></strong>.<br />\n<br />\nBring a door prize for extra recognition!
LOCATION:
UID:e.121.11489
SEQUENCE:3
DTSTAMP:20260422T161458Z
URL:https://business.orangechamber.com/events/details/chamber-alliance-mixer-hosted-by-the-yorba-linda-chamber-11489
END:VEVENT

END:VCALENDAR
