BEGIN:VCALENDAR
VERSION:2.0
PRODID:-//ChamberMaster//Event Calendar 2.0//EN
METHOD:PUBLISH
X-PUBLISHED-TTL:P3D
REFRESH-INTERVAL:P3D
CALSCALE:GREGORIAN
BEGIN:VEVENT
DTSTART:20211201T200000Z
DTEND:20211201T210000Z
X-MICROSOFT-CDO-ALLDAYEVENT:FALSE
SUMMARY:Business Networking Group
DESCRIPTION:Our Business Networking Group occurs on the 1st and 3rd Wednesday of each month at Noon. This is a great opportunity to get to know other business and help expand your own business. All attendees will have an opportunity to share information about their business and also hear about what other local businesses are doing.\n\n \n\nPricing: \n\n$20 for Members\n\n$30 for Non-Members
X-ALT-DESC;FMTTYPE=text/html:<span style="box-sizing: border-box\; outline: 0px\; color: rgb(68\, 68\, 68)\; font-family: Calibri\, sans-serif\; font-size: 14px\; caret-color: rgb(0\, 0\, 0)\;">Our Business Networking Group occurs on the 1st and 3rd Wednesday of each month at Noon. This is a great opportunity to get to know other business and help expand your own business. All attendees will have an opportunity to share information about their business and also hear about what other local businesses are doing.</span><br style="box-sizing: border-box\; color: rgb(68\, 68\, 68)\; font-family: Arial\, Helvetica\, sans-serif\; font-size: 16px\;" />\n<span style="box-sizing: border-box\; color: rgb(68\, 68\, 68)\; font-family: Arial\, Helvetica\, sans-serif\; font-size: 16px\;">&nbsp\;</span><br style="box-sizing: border-box\; color: rgb(68\, 68\, 68)\; font-family: Arial\, Helvetica\, sans-serif\; font-size: 16px\;" />\n<span style="color: rgb(68\, 68\, 68)\; font-family: Arial\, Helvetica\, sans-serif\; font-size: 16px\;">Pricing:&nbsp\;</span><br style="box-sizing: border-box\; color: rgb(68\, 68\, 68)\; font-family: Arial\, Helvetica\, sans-serif\; font-size: 16px\;" />\n<span style="color: rgb(68\, 68\, 68)\; font-family: Arial\, Helvetica\, sans-serif\; font-size: 16px\;">$20 for Members</span><br style="box-sizing: border-box\; color: rgb(68\, 68\, 68)\; font-family: Arial\, Helvetica\, sans-serif\; font-size: 16px\;" />\n<span style="color: rgb(68\, 68\, 68)\; font-family: Arial\, Helvetica\, sans-serif\; font-size: 16px\;">$30 for Non-Members&nbsp\;</span>
LOCATION:Colleary's Bistro & Spirits 2143 N Tustin St\, Orange\, CA 92865
UID:e.121.10817
SEQUENCE:3
DTSTAMP:20260422T035006Z
URL:https://business.orangechamber.com/events/details/business-networking-group-12-01-2021-10817
END:VEVENT

END:VCALENDAR
