BEGIN:VCALENDAR
VERSION:2.0
PRODID:-//ChamberMaster//Event Calendar 2.0//EN
METHOD:PUBLISH
X-PUBLISHED-TTL:P3D
REFRESH-INTERVAL:P3D
CALSCALE:GREGORIAN
BEGIN:VEVENT
DTSTART:20230621T184500Z
DTEND:20230621T200000Z
X-MICROSOFT-CDO-ALLDAYEVENT:FALSE
SUMMARY:Lunch Business Networking Group
DESCRIPTION:Online Registration will close at 3:00pm on 6/20/2023. If you would like to attend\, please come and pay at the door.\n\n\n\nOur Business Networking Group occurs on the 1st and 3rd Wednesdays of each month and alternates between breakfast and lunch meetings. This specific meeting will take place during the lunch hour\, starting from 11:45am and runs until 1pm.\n\n\n\nThis is a great opportunity to get to know other business and help expand your own business. All attendees will have an opportunity to share information about their business and also hear about what other local businesses are doing.\n\n \n\n$20 for Members\n\n$30 for Non-Members
X-ALT-DESC;FMTTYPE=text/html:<span style="font-family:verdana\;"><span style="box-sizing: border-box\; outline: 0px\; color: rgb(68\, 68\, 68)\; caret-color: rgb(0\, 0\, 0)\; background-color: rgb(255\, 255\, 255)\;"><strong>Online Registration will close at 3:00pm on 6/20/2023. If you would like to attend\, please come and pay at the door.</strong><br />\n<br />\nOur Business Networking Group occurs on the 1st and 3rd Wednesdays of each month and alternates between breakfast and lunch meetings. This specific meeting will take place during the lunch hour\, starting from 11:45am and runs until 1pm.<br />\n<br />\nThis is a great opportunity to get to know other business and help expand your own business. All attendees will have an opportunity to share information about their business and also hear about what other local businesses are doing.</span><br style="box-sizing: border-box\; color: rgb(68\, 68\, 68)\; font-family: Arial\, Helvetica\, sans-serif\; font-size: 16px\; background-color: rgb(255\, 255\, 255)\;" />\n<span style="color: rgb(68\, 68\, 68)\; font-size: 16px\; background-color: rgb(255\, 255\, 255)\;">&nbsp\;<br />\n$20 for Members<br />\n$30 for Non-Members</span></span>
LOCATION:Zito's Pizza 2036 N Tustin St\, Orange\, CA 92865
UID:e.121.10034
SEQUENCE:3
DTSTAMP:20260419T153449Z
URL:https://business.orangechamber.com/events/details/business-leaders-group-06-21-2023-10034
END:VEVENT

END:VCALENDAR
