BEGIN:VCALENDAR
VERSION:2.0
PRODID:-//ChamberMaster//Event Calendar 2.0//EN
METHOD:PUBLISH
X-PUBLISHED-TTL:P3D
REFRESH-INTERVAL:P3D
CALSCALE:GREGORIAN
BEGIN:VEVENT
DTSTART;VALUE=DATE:20230506
DTEND;VALUE=DATE:20230507
TRANSP:TRANSPARENT
X-MICROSOFT-CDO-ALLDAYEVENT:TRUE
SUMMARY:2023 Orange May Parade Sponsorships
DESCRIPTION:The Orange May Parade returns on May 6th\, 2023. This page is set up to receive sponsorships/entry fees\,
X-ALT-DESC;FMTTYPE=text/html:The Orange May Parade returns on May 6th\, 2023. This page is set up to receive sponsorships/entry fees\,
LOCATION:
UID:e.121.11038
SEQUENCE:3
DTSTAMP:20260419T135918Z
URL:https://business.orangechamber.com/events/details/2023-orange-may-parade-sponsorships-11038
END:VEVENT

END:VCALENDAR
